BEGIN:VCALENDAR
VERSION:2.0
PRODID:-//Bali Food and Travel - ECPv6.15.20//NONSGML v1.0//EN
CALSCALE:GREGORIAN
METHOD:PUBLISH
X-ORIGINAL-URL:https://www.balifoodandtravel.com
X-WR-CALDESC:Events for Bali Food and Travel
REFRESH-INTERVAL;VALUE=DURATION:PT1H
X-Robots-Tag:noindex
X-PUBLISHED-TTL:PT1H
BEGIN:VTIMEZONE
TZID:UTC
BEGIN:STANDARD
TZOFFSETFROM:+0000
TZOFFSETTO:+0000
TZNAME:UTC
DTSTART:20240101T000000
END:STANDARD
END:VTIMEZONE
BEGIN:VEVENT
DTSTART;TZID=UTC:20251212T220000
DTEND;TZID=UTC:20251213T030000
DTSTAMP:20260422T234515
CREATED:20251205T023338Z
LAST-MODIFIED:20251205T023338Z
UID:35738-1765576800-1765594800@www.balifoodandtravel.com
SUMMARY:HEATWAVES & HEARTBEATS: KARA OKAY + ENTASIA TAKE CONTROL OF CLUB CORAZON ULUWATU FT. PNNY
DESCRIPTION:One night. All fire. Uluwatu’s after-dark scene hits a new high.\n\nFriday 12th December\, Club Corazon ignites the island with a full-force lineup designed to move body and soul. From euphoric rave energy to rolling underground grooves\, it’s a one-night sonic storm led by Kara Okay\, Entasia\, and PNNY’s finest. If you’re chasing that late-night magic where rhythm rules and chaos reigns\, this is the night Uluwatu was made for.\n\nKara Okay\, known for his high-octane style\, brings a bold mix of ’90s trance\, piano-driven riffs\, vocal anthems\, and old-skool rave flavor. After a year locked in the studio honing his craft\, Kara Okay is back with a string of cutting-edge releases that are shaking up the global circuit. His recent tracks have earned the backing of top-tier tastemakers like Job Jobse\, DJ Heartstring\, Marlon Hoffstadt\, Malugi\, and Benwal\, proving that Kara Okay is not just a name to watch\, but one to experience live. \nFlying in from the underground scenes of Liverpool to Melbourne\, Entasia brings his signature twist on the golden era of ‘90s dance merging it seamlessly with modern-day power and precision.  Entasia has carved out a space that bridges legacy and innovation with tracks that have ignited dancefloors at Glastonbury\, Tomorrowland\, and Creamfields\, and support from the likes of KI/KI\, Hoffstadt\, Malugi\, Benwal\, and Anetha. As the founder of forward-thinking imprints Transition and TNT\, he’s shaping its direction. \nBut what’s a Corazon Friday without its hometown heroes? Andy Chunes and Alex Verdacchi\, pillars of the PNNY collective\, will be on deck to deliver that rolling sweaty chaos that has become the lifeblood of Bali’s underground. These two know exactly how to turn a night into a memory with their unique blend of percussive heat and deep connection to the Corazon crowd. \nTogether\, this all-star lineup forms the perfect storm: old-school inspiration meets new-school execution bringing their own flavor to a shared vision of high-energy unity on the dancefloor. Whether you’re here for the euphoria or the wild unpredictability that Corazon Fridays are known for\, this night is built to deliver. \nOne way to end the week right.  \nSee you on the dance floor! \nCLICK TO GET 20% OFF TICKET
URL:https://www.balifoodandtravel.com/event/heatwaves-heartbeats-kara-okay-entasia-take-control-of-club-corazon-uluwatu-ft-pnny/
LOCATION:Club Corazon\, Jl. Labuansait No.69\, Pecatu\, Kec. Kuta Sel.\, Kabupaten\, Bali 80361\, Uluwatu\, Indonesia
CATEGORIES:party
ATTACH;FMTTYPE=image/jpeg:https://www.balifoodandtravel.com/wp-content/uploads/2025/12/Club-Corazon-Uluwatu-Bali-Party-Bali-Food-Travel.jpeg
ORGANIZER;CN="Club Corazon":MAILTO:bookings@corazonbali.com
END:VEVENT
END:VCALENDAR