BEGIN:VCALENDAR
VERSION:2.0
PRODID:-//Bali Food and Travel - ECPv6.15.20//NONSGML v1.0//EN
CALSCALE:GREGORIAN
METHOD:PUBLISH
X-ORIGINAL-URL:https://www.balifoodandtravel.com
X-WR-CALDESC:Events for Bali Food and Travel
REFRESH-INTERVAL;VALUE=DURATION:PT1H
X-Robots-Tag:noindex
X-PUBLISHED-TTL:PT1H
BEGIN:VTIMEZONE
TZID:UTC
BEGIN:STANDARD
TZOFFSETFROM:+0000
TZOFFSETTO:+0000
TZNAME:UTC
DTSTART:20240101T000000
END:STANDARD
END:VTIMEZONE
BEGIN:VTIMEZONE
TZID:Asia/Shanghai
BEGIN:STANDARD
TZOFFSETFROM:+0800
TZOFFSETTO:+0800
TZNAME:CST
DTSTART:20240101T000000
END:STANDARD
END:VTIMEZONE
BEGIN:VEVENT
DTSTART;TZID=UTC:20251205T220000
DTEND;TZID=UTC:20251207T030000
DTSTAMP:20260422T152702
CREATED:20251203T050840Z
LAST-MODIFIED:20251203T050840Z
UID:35579-1764972000-1765076400@www.balifoodandtravel.com
SUMMARY:BALI WEEKEND IGNITES AT CLUB CORAZON ULUWATU WITH PNNY FT. BASSO & OLE
DESCRIPTION:Back to back wild nights. This is the Bali weekend in Uluwatu.\n\nUluwatu’s nightlife is about to pulse even harder. This weekend\, Club Corazon brings a two-night surge of sound: from deep hypnotic electronic to the seductive sway of Spanish reggaeton. Whether you’re after underground heat or timeless grooves\, this is where the island lights up after dark. \n\n\nFRIDAY\, DECEMBER 5TH – CORAZON FRIDAYS PNNY FT. BASSO\nHailing from Liverpool\, Basso has been deep in music since day one. Inspired by his brother’s vinyl collection and throwing his own events by age 17\, he quickly rose as one of the UK’s brightest new talents. Today he runs his label Latido\, pushing a sound built on underground\, bass-driven grooves\, minimal rhythms\, and a distinct Latin vocal flair. With support slots alongside Pawsa\, Richy Ahmed\, Mason Collective\, and Waff\, Basso is carving out a global presence with sets made for unforgettable dance floors. \nJoining him in the booth are PNNY heavy-hitters Todaysrenaissance and Daffabedamned — two of the island’s most magnetic selectors\, known for bringing the kind of raw\, rolling\, sweat-drenched energy that defines Corazon Fridays. \n  \nSATURDAY\, DECEMBER 6TH – OLÉ\nIf you’ve been to the previous OLÉ parties\, than you know what’s up! Born from the roots of Spanish culture. They craft an atmosphere where the energy of the crowd takes centre stage\, transcending the need for big names or rigid expectations. Olé plays irresistible rhythms of reggaeton\, nostalgic pulse of early 2000s club anthem\, electrifying grooves of house and acid techno. Each moment is designed to keep the dance floor alive.  \nEveryone is invited. Just come and dance! \nTwo nights. Two genres. One way to spend your weekend.. \n \nCLICK FOR PNNY GL  \nCLICK FOR OLE 20% DISCOUNT 
URL:https://www.balifoodandtravel.com/event/bali-weekend-at-club-corazon-uluwatu-pnny-ft-basso-ole/
LOCATION:Club Corazon\, Jl. Labuansait No.69\, Pecatu\, Kec. Kuta Sel.\, Kabupaten\, Bali 80361\, Uluwatu\, Indonesia
CATEGORIES:party
ATTACH;FMTTYPE=image/jpeg:https://www.balifoodandtravel.com/wp-content/uploads/2025/12/Bali-Weekend-Club-Corazon-Uluwatu-Bali-Food-Travel.jpeg
ORGANIZER;CN="Club Corazon":MAILTO:bookings@corazonbali.com
END:VEVENT
BEGIN:VEVENT
DTSTART;VALUE=DATE:20251206
DTEND;VALUE=DATE:20251207
DTSTAMP:20260422T152702
CREATED:20251127T072724Z
LAST-MODIFIED:20251127T072724Z
UID:35225-1764979200-1765065599@www.balifoodandtravel.com
SUMMARY:Marten Lou Brings a High-Energy Night to Savaya Bali on December 6
DESCRIPTION:Savaya Bali returns with another massive weekend event as rising electronic music artist Marten Lou takes the stage on Saturday\, 6 December. Set on the dramatic cliffs of Uluwatu\, Savaya continues to dominate the Bali nightlife scene\, and this event is expected to draw party lovers from across the island. \nKnown for his melodic\, uplifting\, and groove-driven style\, Marten Lou has become a favorite in the global dance community. His sound blends perfectly with Savaya’s iconic sunset setting — where the ocean horizon\, world-class stage visuals\, and unmatched atmosphere create one of the best party experiences in Bali. \nVisitors can expect a night filled with seamless transitions from golden-hour vibes into a high-energy dance floor\, surrounded by Savaya’s signature production\, immersive lighting\, and international crowd. Whether you’re exploring the top events in Uluwatu or searching for the best DJ events in Bali\, this show is set to be a highlight of the December calendar.
URL:https://www.balifoodandtravel.com/event/marten-lou-brings-a-high-energy-night-to-savaya-bali-on-december-6/
LOCATION:Savaya\, Jl. Belimbing Sari\, Banjar Tambiyak\, Pecatu\, Uluwatu\, Kabupaten Badung\, Bali 80364\, Indonesia\, Banjar Tambiyak\, 80364\, Indonesia
CATEGORIES:party
ATTACH;FMTTYPE=image/jpeg:https://www.balifoodandtravel.com/wp-content/uploads/2025/11/251206_SAVAYA_MARTEN-LOU_Blog-Header_1300x860.jpg
END:VEVENT
END:VCALENDAR