BEGIN:VCALENDAR
VERSION:2.0
PRODID:-//Bali Food and Travel - ECPv6.15.20//NONSGML v1.0//EN
CALSCALE:GREGORIAN
METHOD:PUBLISH
X-WR-CALNAME:Bali Food and Travel
X-ORIGINAL-URL:https://www.balifoodandtravel.com
X-WR-CALDESC:Events for Bali Food and Travel
REFRESH-INTERVAL;VALUE=DURATION:PT1H
X-Robots-Tag:noindex
X-PUBLISHED-TTL:PT1H
BEGIN:VTIMEZONE
TZID:UTC
BEGIN:STANDARD
TZOFFSETFROM:+0000
TZOFFSETTO:+0000
TZNAME:UTC
DTSTART:20240101T000000
END:STANDARD
END:VTIMEZONE
BEGIN:VEVENT
DTSTART;TZID=UTC:20251128T180000
DTEND;TZID=UTC:20251129T030000
DTSTAMP:20260422T001355
CREATED:20251113T023703Z
LAST-MODIFIED:20251113T023703Z
UID:35106-1764352800-1764385200@www.balifoodandtravel.com
SUMMARY:THE CORAZON CARNIVAL - CLUB CORAZON IS TURNING ONE
DESCRIPTION:This November 28\, Club Corazon and Tacos Aqui Uluwatu celebrate one unforgettable year\, over 150 nights of music\, love\, and pure energy. From its very first party to now\, Corazon has become a home for rhythm seekers\, dance lovers\, and night owls who live for that unfiltered\, feel-every-beat energy. And for their first birthday\, we’re doing what they do best\, going all out. \nThe celebration kicks off with a pre-party at Tacos Aqui Uluwatu\, where tacos\, tunes\, and tequila set the perfect tone before the madness unfolds at Club Corazon. Think of it as the calm before the chaos\, a gathering of friends\, family\, and familiar faces ready to raise a glass (or a margarita) to one wild year. \nOnce the sun sets\, the Corazon Carnival comes alive. Expect the unexpected. It’s not just a party; it’s a spectacle. Because at the carnival\, anything can happen\, and usually does. \nBehind the decks\, two powerhouse acts will take charge of the night’s soundtrack: \nPNNY — Bali’s most beloved DJ collective and the driving force behind Corazon Fridays. Known for their infectious energy\, seamless back-to-backs\, and genre-blending sound that moves effortlessly between deep grooves and playful rhythms\, PNNY have become the sound of Bali’s underground scene. When they play\, the room doesn’t just dance — it connects. And this time\, they’re steering the carnival. \nJoining them is Aldonna\, one of Australia’s most exciting rising talents in house and techno. Her sets are a masterclass in balance\, percussive\, warm\, and euphoric\, with an undeniable pull that keeps dancefloors locked in from start to finish. With an instinct for rhythm and an ear for emotion\, Aldonna brings the perfect energy to celebrate Corazon’s first trip around the sun. \nOne year of rhythm\, chaos\, tequila\, and love — and they’re only getting started. \nWelcome to The Corazon Carnival. \nCLICK FOR 20% OFF TICKET
URL:https://www.balifoodandtravel.com/event/club-corazon-anniversary/
LOCATION:Club Corazon\, Jl. Labuansait No.69\, Pecatu\, Kec. Kuta Sel.\, Kabupaten\, Bali 80361\, Uluwatu\, Indonesia
CATEGORIES:celebration,dinner,party
ATTACH;FMTTYPE=image/jpeg:https://www.balifoodandtravel.com/wp-content/uploads/2025/11/Club-Corazon-Uluwatu-Corazon-Carnival-Bali-Food-Travel-Bali-Party.jpeg
ORGANIZER;CN="Club Corazon":MAILTO:bookings@corazonbali.com
END:VEVENT
END:VCALENDAR