BEGIN:VCALENDAR
VERSION:2.0
PRODID:-//Bali Food and Travel - ECPv6.15.20//NONSGML v1.0//EN
CALSCALE:GREGORIAN
METHOD:PUBLISH
X-WR-CALNAME:Bali Food and Travel
X-ORIGINAL-URL:https://www.balifoodandtravel.com
X-WR-CALDESC:Events for Bali Food and Travel
REFRESH-INTERVAL;VALUE=DURATION:PT1H
X-Robots-Tag:noindex
X-PUBLISHED-TTL:PT1H
BEGIN:VTIMEZONE
TZID:UTC
BEGIN:STANDARD
TZOFFSETFROM:+0000
TZOFFSETTO:+0000
TZNAME:UTC
DTSTART:20240101T000000
END:STANDARD
END:VTIMEZONE
BEGIN:VEVENT
DTSTART;TZID=UTC:20251124T180000
DTEND;TZID=UTC:20251124T233000
DTSTAMP:20260422T001428
CREATED:20251104T023901Z
LAST-MODIFIED:20251104T023901Z
UID:34782-1764007200-1764027000@www.balifoodandtravel.com
SUMMARY:Metto Monday  X PNNY at Luigi's Hot Pizza ft. Million
DESCRIPTION:Get ready for another unforgettable night as Milion (NL) returns to the booth for round two at Luigi’s Hot Pizza. Renowned for his forward-thinking approach to house music\, Milion seamlessly blends the soul of 90’s house with the energy of UK Garage and progressive sounds. \nHis signature clear-cut basslines and fast-paced grooves have earned him recognition and support from international artists across the scene. Expect a set that’s both nostalgic and innovative\, guaranteed to keep the floor moving all night. \nTickets are selling fast! \nSecure yours now via https://megatix.co.id/events/metto-monday-ft-million
URL:https://www.balifoodandtravel.com/event/metto-monday-x-pnny-at-luigis-hot-pizza-ft-million/
LOCATION:Luigis Hot Pizza\, Jalan Batu Mejan\, Canggu\, Kuta Utara\, Canggu\, Kec. Kuta Utara\, Kabupaten Badung\, Bali 80351\, canggu\, Indonesia
ATTACH;FMTTYPE=image/jpeg:https://www.balifoodandtravel.com/wp-content/uploads/2025/11/WhatsApp-Image-2025-11-03-at-09.53.06.jpeg
END:VEVENT
END:VCALENDAR