BEGIN:VCALENDAR
VERSION:2.0
PRODID:-//Bali Food and Travel - ECPv6.15.20//NONSGML v1.0//EN
CALSCALE:GREGORIAN
METHOD:PUBLISH
X-WR-CALNAME:Bali Food and Travel
X-ORIGINAL-URL:https://www.balifoodandtravel.com
X-WR-CALDESC:Events for Bali Food and Travel
REFRESH-INTERVAL;VALUE=DURATION:PT1H
X-Robots-Tag:noindex
X-PUBLISHED-TTL:PT1H
BEGIN:VTIMEZONE
TZID:UTC
BEGIN:STANDARD
TZOFFSETFROM:+0000
TZOFFSETTO:+0000
TZNAME:UTC
DTSTART:20240101T000000
END:STANDARD
END:VTIMEZONE
BEGIN:VEVENT
DTSTART;TZID=UTC:20251114T220000
DTEND;TZID=UTC:20251115T030000
DTSTAMP:20260422T001427
CREATED:20251030T023854Z
LAST-MODIFIED:20251030T023927Z
UID:34602-1763157600-1763175600@www.balifoodandtravel.com
SUMMARY:CLUB CORAZON ULUWATU PRESENTS: TWO NIGHTS OF PURE CONNECTION
DESCRIPTION:Club Corazon Uluwatu keeps the momentum rolling this November with two back-to-back nights that celebrate friendship\, creativity\, and the unshakable rhythm of the underground. From Australia to Indonesia\, we’re bringing together a lineup that embodies the true spirit of connection through music. \nKicking off on Friday\, November 14\, Corazon teams up with Not Without Friends\, the powerhouse collaboration between three of Australia’s most exciting electronic artists: Luke Alessi\, William Kiss\, and Jordan Brando. \nBorn from over 15 years of genuine friendship\, this trio channels their bond into playful\, instinctive sets that radiate energy\, chemistry\, and euphoria. Their sound moves effortlessly between grooves\, emotion\, and experimentation — a reflection of their unfiltered connection both behind the decks and on the dance floor. \nJoin us for the ultimate day-to-night celebration under the Corazon lights\, alongside Bali’s own PNNY and the incomparable Ken Spieker\, for a night that promises nothing short of magic. \nThen on Saturday\, November 15\, C.R.E.M.A x Pon Your Tone takes over with Indonesian icon Dipha Barus at the helm. One of the nation’s most innovative DJs and producers\, Dipha has built a global reputation for fusing modern electronic sounds with deep Indonesian roots. \nSigned to Ultra Records\, Dipha’s genre-defying productions\, including chart-toppers “All Good” and “Down” — have garnered over 100 million streams and earned support from heavyweights like Tiësto\, David Guetta\, and Lost Frequencies. With 14 AMI Awards\, collaborations with Ciara and Vince Staples\, and remixes for Charli XCX and Lauv\, Dipha continues to push boundaries and redefine Indonesia’s sound on the world stage. \nJoining him on deck are Jidho\, Jnaro\, and Dubwill\, bringing their signature island grooves to round out another unforgettable weekend at Uluwatu’s home of underground culture. \nTwo nights. Infinite energy. One heartbeat. Only at Club Corazon. \nClick For Not Without Friends Ticket \nGuestlist for CREMA
URL:https://www.balifoodandtravel.com/event/club-corazon-uluwatu-two-nights-of-pure-connection/
LOCATION:Club Corazon\, Jl. Labuansait No.69\, Pecatu\, Kec. Kuta Sel.\, Kabupaten\, Bali 80361\, Uluwatu\, Indonesia
CATEGORIES:party
ATTACH;FMTTYPE=image/jpeg:https://www.balifoodandtravel.com/wp-content/uploads/2025/10/Dipha-Barus-Not-Without-Friends-Club-Corazon-Uluwatu-Bali-Party.jpeg
ORGANIZER;CN="Club Corazon":MAILTO:bookings@corazonbali.com
END:VEVENT
BEGIN:VEVENT
DTSTART;VALUE=DATE:20251115
DTEND;VALUE=DATE:20251116
DTSTAMP:20260422T001427
CREATED:20251029T021314Z
LAST-MODIFIED:20251029T021314Z
UID:34573-1763164800-1763251199@www.balifoodandtravel.com
SUMMARY:Community Assist 2025: 3x3 Charity Tournament by Indosole & PNNY
DESCRIPTION:Community Assist 2025\nThe 5th Annual 3×3 Charity Basketball Tournament\nBrought to you by Indosole and PNNY \nSaturday\, 15 November 2025\, at Canggu Community School aims to raise IDR 480 million for the Ragam Foundation Educational Scholarship Program\, Green School Foundation Agricultural Scholarship Program\, and Bali Flood Relief rebuilding and refurbishment efforts. \nCommunity Assist will host its 5th Annual 3×3 Charity Basketball Tournament on Saturday\, 15 November 2025 at Canggu Community School. TheRagamt begins at 9:00 AM and will run through until sunset. With a fundraising goal of IDR 480\,000\,000\, all proceeds will support the Ragam Foundation Educational Scholarship Program\, Green School Foundation Agricultural Scholarship Program\, and Bali Flood Relief rebuilding and refurbishment. \nSupporting Details:\nThe tournament brings together community members\, local businesses\, and basketball enthusiasts from across Bali to play\, cheer\, and contribute to education and recovery initiatives. \nHow You Can Be Part of the Day\nThere are many ways to get involved and make a difference: \n•⁠ ⁠Become a Sponsor – support through brand partnerships or donations.\n•⁠ ⁠Register a Team – play and represent your business\, school\, or community.\n•⁠ ⁠Donate Prizes – contribute items\, experiences\, vouchers\, hotel stays\, memberships for our raffle and auction.\n•⁠ ⁠Join the Marketplace – showcase your products\, services\, or crafts.\n•⁠ ⁠Come and Support – enjoy a day of sport\, community\, and connection while giving back. \nEvent Details\nDate: Saturday\, 15 November 2025\nTime: 9:00 AM – Sunset\nVenue: Canggu Community School\, Bali\nPurpose: To raise funds for the Ragam Foundation Educational Scholarship Program\, Green School Foundation Agricultural Scholarship Program\, and Bali Flood Relief rebuilding and refurbishment.\nParticipation: Team registrations\, sponsorships\, market applications\, and prize donations are encouraged.\nContact: For more information or to register\, email communityassist@indosole.com\nWebsite: www.communityassistbali.com \nAbout Community Assist\nNow in its fifth year\, Community Assist aims to empower local communities in achieving educational\, environmental\, and economic sustainability. Established by a collective of Indonesian businesses\, it raises funds to support and promote organizations that drive change through education scholarships\, youth outreach programs\, community building\, and sustainable initiatives.
URL:https://www.balifoodandtravel.com/event/community-assist-2025-3x3-charity-tournament-by-indosole-pnny/
LOCATION:Canggu Community School\, Jl. Subak Sari\, Tibubeneng\, Kec. Kuta Utara\, Kabupaten Badung\, Bali 80361\, Badung\, Bali\, Indonesia
CATEGORIES:Charity
ATTACH;FMTTYPE=image/jpeg:https://www.balifoodandtravel.com/wp-content/uploads/2025/10/WhatsApp-Image-2025-10-28-at-12.44.46.jpeg
END:VEVENT
END:VCALENDAR