BEGIN:VCALENDAR
VERSION:2.0
PRODID:-//Bali Food and Travel - ECPv6.15.20//NONSGML v1.0//EN
CALSCALE:GREGORIAN
METHOD:PUBLISH
X-ORIGINAL-URL:https://www.balifoodandtravel.com
X-WR-CALDESC:Events for Bali Food and Travel
REFRESH-INTERVAL;VALUE=DURATION:PT1H
X-Robots-Tag:noindex
X-PUBLISHED-TTL:PT1H
BEGIN:VTIMEZONE
TZID:Asia/Shanghai
BEGIN:STANDARD
TZOFFSETFROM:+0800
TZOFFSETTO:+0800
TZNAME:CST
DTSTART:20240101T000000
END:STANDARD
END:VTIMEZONE
BEGIN:VTIMEZONE
TZID:UTC
BEGIN:STANDARD
TZOFFSETFROM:+0000
TZOFFSETTO:+0000
TZNAME:UTC
DTSTART:20240101T000000
END:STANDARD
END:VTIMEZONE
BEGIN:VEVENT
DTSTART;VALUE=DATE:20251031
DTEND;VALUE=DATE:20251101
DTSTAMP:20260421T223056
CREATED:20251016T033449Z
LAST-MODIFIED:20251016T033449Z
UID:34513-1761868800-1761955199@www.balifoodandtravel.com
SUMMARY:Circo de los Muertos: Halloween Party at White Rock Beach Club
DESCRIPTION:Experience an unforgettable Halloween celebration at White Rock Beach Club\, Bali\, with Circo de los Muertos. The beach club transforms into a vibrant carnival of the bizarre\, featuring thrilling performances from towering stilt walkers\, mesmerizing fire dancers\, acrobats\, and costumed performers. \nJoin the festivities on Friday\, 31 October 2025\, starting at 3 PM onwards. Secure your free guestlist and FDC via Megatix.
URL:https://www.balifoodandtravel.com/event/circo-de-los-muertos-halloween-party-at-white-rock-beach-club/
LOCATION:white rock\, Pantai Melasti\, Ungasan\, Kec. Kuta Sel.\, Kabupaten Badung\, Bali 80361\, Ungasan
CATEGORIES:celebration,party
ATTACH;FMTTYPE=image/jpeg:https://www.balifoodandtravel.com/wp-content/uploads/2025/10/HALLOWEEN-1080-x-1080-1MB.jpg
END:VEVENT
BEGIN:VEVENT
DTSTART;VALUE=DATE:20251031
DTEND;VALUE=DATE:20251103
DTSTAMP:20260421T223056
CREATED:20251014T032252Z
LAST-MODIFIED:20251014T032252Z
UID:34450-1761868800-1762127999@www.balifoodandtravel.com
SUMMARY:Sirens of the Abyss: Savaya Bali’s Unforgettable Halloween Weekend (October 31 – November 2)
DESCRIPTION:Descend into the deep this Halloween weekend as Savaya Bali invites you to an unforgettable journey through sound\, transformation\, and otherworldly allure. \nFrom October 31 to November 2\, the island’s iconic clifftop venue transforms into a mysterious underworld for Sirens of the Abyss — a three-day haunting celebration where music meets mythology. Expect an immersive fusion of sound\, costume\, and creativity that blurs the boundaries between fantasy and reality. \nHighlights: \n\n\nCostume Contest with a total of IDR 600 million in cash and prizes — let your imagination run wild and bring your most haunting alter ego to life. \n\n\nThree Nights of Music and Magic: \n\n\nFriday\, Oct 31 – Costume Contest with Special Guest \n\n\nSaturday\, Nov 1 – Costume Contest with @cristophmusic \n\n\nSunday\, Nov 2 – Halloween Closing Night with @sglewis \n\n\n\n\nWhether you come for the beats\, the spectacle\, or the surreal ocean views\, Sirens of the Abyss promises a Halloween weekend unlike any other on the island. \nRegister for the Costume Contest: Click hereTickets and Table Information: \n\n\nFriday\, Oct 31 \n\n\nSaturday\, Nov 1 \n\n\nSunday\, Nov 2 \n\n\nDive deep\, dress bold\, and let the sirens guide you — only at Savaya Bali.
URL:https://www.balifoodandtravel.com/event/sirens-of-the-abyss-savaya-balis-unforgettable-halloween-weekend-october-31-november-2/
LOCATION:Savaya\, Jl. Belimbing Sari\, Banjar Tambiyak\, Pecatu\, Uluwatu\, Kabupaten Badung\, Bali 80364\, Indonesia\, Banjar Tambiyak\, 80364\, Indonesia
CATEGORIES:celebration,party
ATTACH;FMTTYPE=image/jpeg:https://www.balifoodandtravel.com/wp-content/uploads/2025/10/251031-251102_SAVAYA_Halloween_Blog-Header_1300x860.jpg
END:VEVENT
BEGIN:VEVENT
DTSTART;TZID=UTC:20251031T180000
DTEND;TZID=UTC:20251031T223000
DTSTAMP:20260421T223056
CREATED:20251001T021356Z
LAST-MODIFIED:20251001T022630Z
UID:34170-1761933600-1761949800@www.balifoodandtravel.com
SUMMARY:Sofitel Bali Nusa Dua Beach Resort Invites Families to a Wicked Halloween Special
DESCRIPTION:Prepare for a world of eerie enchantment and ghastly surprises as Sofitel Bali Nusa Dua Beach Resort hosts a series of wicked Halloween festivities for the whole family. Starting at Pan-Asian restaurant\, Kwee Zeen begins on Thursday\, 31 October from 6 PM – 10:30 PM\, including a delicious dinner buffet spread for IDR 449.000++ per adult and IDR 224.500++ per child (6–12 years old). For the little ones\, think spooky cartoon movie nights\, enchanting magicians\, face painting and trick or treat sessions. Be captivated by the haunting hors d’oeuvres\, spellbinding beverages\, and cauldron-inspired delicacies. \nPrepare to be bewitched by a Halloween celebration unlike any other\, at Sofitel Bali Nusa Dua Beach Resort. \nFor reservations\, please contact +62 811 3830 5954 via WhatsApp or fb.reservation@sofitelbalinusadua.com.
URL:https://www.balifoodandtravel.com/event/sofitel-bali-wicked-halloween-special/
LOCATION:Sofitel Bali Nusa Dua\, Itdc Tourism Complex\, Jl. Nusa Dua Lot N5\, Benoa\, Badung\, Bali\, 80361\, Indonesia
CATEGORIES:brunch,celebration,dinner
ATTACH;FMTTYPE=image/jpeg:https://www.balifoodandtravel.com/wp-content/uploads/2025/10/Bali-Halloween-Sofitel-Bali-Nusa-Dua-Bali-Food-Travel-.jpeg
END:VEVENT
BEGIN:VEVENT
DTSTART;TZID=UTC:20251031T180000
DTEND;TZID=UTC:20251101T020000
DTSTAMP:20260421T223056
CREATED:20250919T043710Z
LAST-MODIFIED:20251009T020135Z
UID:33972-1761933600-1761962400@www.balifoodandtravel.com
SUMMARY:Día De Los Muertos (Day of The Dead) 2025 At Motel Mexicola - The Island’s Most Iconic Day of the Dead Fiesta
DESCRIPTION:Friday\, 31 October 2025\, Motel Mexicola is hosting its legendary Día de los Muertos (Day of the Dead) party at both its Seminyak and Canggu venues\, unleashing a night of fire\, flavour\, fiesta\, and full-blown Mexicola mayhem. \nKnown for capturing the spirit of the motherland\, this iconic fiesta is the stuff of island legend\, an authentic nod to the roots of Día de los Muertos. Unlike the traditional holiday of Halloween\, which plays with fear and fright\, this is a tradition that honours life after death\, a joyful remembrance of loved ones passed\, steeped in Mexican culture and spirit. In one tequila-fuelled\, table-dancing night\, the party will see both locations epicly transformed\, transporting you to the wild heart of its origins. In that same spirit\, Chef Steven Skelly is crafting a menu inspired by Mexico’s most beloved culinary traditions\, with dishes created exclusively for this once-a-year celebration. A culture that honours death as a passage to the next life\, this spirit finds its natural home here\, a true ‘Balexico’ connection. “Mexicola has always been Balexico\, where Bali meets Mexico\, the quiet harmony between both cultures.” – Nicolaza Lupercio. \nNaturally\, Motel Mexicola will be embracing the tradition in full force\, offering up a night the ancestors would be proud of with big tunes\, a heaving dancefloor and that open-arms energy that keeps our la familia coming back year after year. Whether it’s Seminyak or Canggu you find yourself in on October 31\, Motel Mexicola’s doors will be wide open with the hospitality you know and love\, turned all the way up\, with flavours\, cocktails\, and fiestas that keep Bali coming back for more. \nAmigos\, returning for another year\, the Best Dressed IDR 10 million prize could be yours. Two venues. Two lucky winners. This is no time for half-hearted face paint or last-minute costumes. They want the jaw-droppers\, the neck-snappers\, the “did-you-see-that?” moments. Outfits so wild they’d get a standing ovation in the afterlife. Bring it\, or get buried in the crowd. \nLOCATION: Motel Mexicola Seminyak & Canggu \nDATE: Friday\, 31 October 2025\nTIME: 6pm – 2am\nBest Dressed Prize: IDR 10 Million (per venue)\nVámonos\, the dead are waiting! \nSEMINYAK BOOKING | CANGGU BOOKING
URL:https://www.balifoodandtravel.com/event/motel-mexicola-dia-de-los-muertos/
LOCATION:Motel Mexicola\, Jl. Kayu Jati No.9X\, Kerobokan Kelod\, Kec. Kuta Utara\, Kabupaten Badung\, Bali 80361\, Indonesia
CATEGORIES:celebration,party
ATTACH;FMTTYPE=image/png:https://www.balifoodandtravel.com/wp-content/uploads/2025/09/Halloween-2025-Bali-Motel-Mexicola-Seminyak-Canggu-Bali-Food-Travel.png
END:VEVENT
END:VCALENDAR