BEGIN:VCALENDAR
VERSION:2.0
PRODID:-//Bali Food and Travel - ECPv6.15.20//NONSGML v1.0//EN
CALSCALE:GREGORIAN
METHOD:PUBLISH
X-ORIGINAL-URL:https://www.balifoodandtravel.com
X-WR-CALDESC:Events for Bali Food and Travel
REFRESH-INTERVAL;VALUE=DURATION:PT1H
X-Robots-Tag:noindex
X-PUBLISHED-TTL:PT1H
BEGIN:VTIMEZONE
TZID:UTC
BEGIN:STANDARD
TZOFFSETFROM:+0000
TZOFFSETTO:+0000
TZNAME:UTC
DTSTART:20240101T000000
END:STANDARD
END:VTIMEZONE
BEGIN:VEVENT
DTSTART;TZID=UTC:20251030T180000
DTEND;TZID=UTC:20251030T233000
DTSTAMP:20260421T223012
CREATED:20251021T022929Z
LAST-MODIFIED:20251021T022929Z
UID:34535-1761847200-1761867000@www.balifoodandtravel.com
SUMMARY:Mosto presents FERMENTO
DESCRIPTION:Mosto presents FERMENTO\, a one-night-only exploration into the wild\, expressive world of natural wine. \nOn Thursday\, 30 October\, we pour from the vines of Partida Creus – the cult Catalan winemakers redefining natural wine for Fermento Vol.3. \nFounded by Massimo Marchiori and Antonella Gerosa\, Partida Creus is all about revival – abandoned vineyards\, near-extinct native grape varieties and a deep respect for the land. Their work is a testament to passion\, tradition\, sustainability and minimal intervention. A reminder of the beauty in preserving our heritage and celebrating wines that are alive and expressive. \nJoin us for an evening of small plates\, big wines and sounds by Cioko.\nAn exclusive a la carte menu will be on offer with Partida Creus wines to pair. \nCome thirsty. Stay curious. \n\nClick here to book\, limited seats.
URL:https://www.balifoodandtravel.com/event/mosto-presents-fermento-2/
LOCATION:Mosto Bali\, Jl. Pantai Berawa No.8\, Tibubeneng\, Kec. Kuta\, Kabupaten Badung\, Bali 80361\, Canggu\, Indonesia
CATEGORIES:bar takeover,dinner
ATTACH;FMTTYPE=image/png:https://www.balifoodandtravel.com/wp-content/uploads/2025/10/Mosto-Canggu-Bali-Food-Travel-Bali-Wine.png
END:VEVENT
END:VCALENDAR