BEGIN:VCALENDAR
VERSION:2.0
PRODID:-//Bali Food and Travel - ECPv6.15.20//NONSGML v1.0//EN
CALSCALE:GREGORIAN
METHOD:PUBLISH
X-ORIGINAL-URL:https://www.balifoodandtravel.com
X-WR-CALDESC:Events for Bali Food and Travel
REFRESH-INTERVAL;VALUE=DURATION:PT1H
X-Robots-Tag:noindex
X-PUBLISHED-TTL:PT1H
BEGIN:VTIMEZONE
TZID:UTC
BEGIN:STANDARD
TZOFFSETFROM:+0000
TZOFFSETTO:+0000
TZNAME:UTC
DTSTART:20240101T000000
END:STANDARD
END:VTIMEZONE
BEGIN:VEVENT
DTSTART;TZID=UTC:20251017T180000
DTEND;TZID=UTC:20251017T220000
DTSTAMP:20260421T222954
CREATED:20251016T074534Z
LAST-MODIFIED:20251016T074916Z
UID:34520-1760724000-1760738400@www.balifoodandtravel.com
SUMMARY:MODENA Culinaria x COMO Uma Canggu - Taste of The Land and Sea
DESCRIPTION:A dining experience inspired by nature’s purest gifts 🌿🌊 \nJoin the “Taste of The Land and Sea”\, a Zero Waste Pop-Up Dinner by MODENA Culinaria x COMO Uma Canggu. \nSavor sustainably sourced creations that celebrate both earth and ocean — where every bite tells a story of harmony and purpose. 🌾🐚 \n🗓 Friday\, October 17\, 2025⏰ 18.00 WITA (open registration)📍 COMO Uma Canggu💰 IDR 1\,100\,000++ / pax \nSeats are limited — reserve a seat and be part of a night where flavor meets purpose\, and every dish supports a greener tomorrow. 💚 \n✨ To reserve a dining experience\, contact via WhatsApp at +62 811 3820 9418 \nRegister through this link bit.ly/TasteOfLandAndSea \nLet’s Discover The Chef In You! \n#MODENA#MODENACulinaria#COMOHotel#PopUpDining
URL:https://www.balifoodandtravel.com/event/modena-culinaria-x-como-uma-canggu-taste-of-the-land-and-sea/
CATEGORIES:dinner
ATTACH;FMTTYPE=image/jpeg:https://www.balifoodandtravel.com/wp-content/uploads/2025/10/WhatsApp-Image-2025-10-16-at-15.42.03.jpeg
END:VEVENT
END:VCALENDAR