BEGIN:VCALENDAR
VERSION:2.0
PRODID:-//Bali Food and Travel - ECPv6.15.20//NONSGML v1.0//EN
CALSCALE:GREGORIAN
METHOD:PUBLISH
X-ORIGINAL-URL:https://www.balifoodandtravel.com
X-WR-CALDESC:Events for Bali Food and Travel
REFRESH-INTERVAL;VALUE=DURATION:PT1H
X-Robots-Tag:noindex
X-PUBLISHED-TTL:PT1H
BEGIN:VTIMEZONE
TZID:UTC
BEGIN:STANDARD
TZOFFSETFROM:+0000
TZOFFSETTO:+0000
TZNAME:UTC
DTSTART:20240101T000000
END:STANDARD
END:VTIMEZONE
BEGIN:VEVENT
DTSTART;VALUE=DATE:20251006
DTEND;VALUE=DATE:20251007
DTSTAMP:20260421T223013
CREATED:20251002T020911Z
LAST-MODIFIED:20251002T020911Z
UID:34177-1759708800-1759795199@www.balifoodandtravel.com
SUMMARY:Purnama: Live Sound Meditation and Dinner Experience
DESCRIPTION:The Purnama journey begins with a guided live sound meditation against a soundscape created to reflect the energy of the full moon. Whether it is a super blue moon that encourages manifestation or a harvest moon that inspires action\, Purnama is a time to surrender to the soothing frequencies and begin anew. \nThe evening continues at Tanaman with a six-course plant-based dinner crafted by award-winning chef Alejandro Cancino. The menu brings together bold flavours and seasonal ingredients inspired by the flavours of Bali and Southeast Asia. \nTogether\, the meditation and meal create a complete experience\, one that nourishes body\, mind\, and spirit\, and offers space to share meaningful connection with others under the full moon. \n  \n6 Oct 2025\n07:00 PM — 10:00 PM\nBamboo Garden
URL:https://www.balifoodandtravel.com/event/purnama-live-sound-meditation-and-dinner-experience/
LOCATION:Desa Potato Head\, Jalan Petitenget no. 51B\, Seminyak\, Kuta Utara Kabupaten Badung\, Bali — 80361\, Indonesia\, Seminyak\, Indonesia
CATEGORIES:Wellness
ATTACH;FMTTYPE=image/jpeg:https://www.balifoodandtravel.com/wp-content/uploads/2025/10/WhatsApp-Image-2025-10-02-at-09.57.16.jpeg
END:VEVENT
END:VCALENDAR