BEGIN:VCALENDAR
VERSION:2.0
PRODID:-//Bali Food and Travel - ECPv6.15.20//NONSGML v1.0//EN
CALSCALE:GREGORIAN
METHOD:PUBLISH
X-WR-CALNAME:Bali Food and Travel
X-ORIGINAL-URL:https://www.balifoodandtravel.com
X-WR-CALDESC:Events for Bali Food and Travel
REFRESH-INTERVAL;VALUE=DURATION:PT1H
X-Robots-Tag:noindex
X-PUBLISHED-TTL:PT1H
BEGIN:VTIMEZONE
TZID:UTC
BEGIN:STANDARD
TZOFFSETFROM:+0000
TZOFFSETTO:+0000
TZNAME:UTC
DTSTART:20240101T000000
END:STANDARD
END:VTIMEZONE
BEGIN:VTIMEZONE
TZID:Asia/Shanghai
BEGIN:STANDARD
TZOFFSETFROM:+0800
TZOFFSETTO:+0800
TZNAME:CST
DTSTART:20240101T000000
END:STANDARD
END:VTIMEZONE
BEGIN:VEVENT
DTSTART;VALUE=DATE:20251003
DTEND;VALUE=DATE:20251005
DTSTAMP:20260421T222853
CREATED:20250929T033453Z
LAST-MODIFIED:20250929T033453Z
UID:34121-1759449600-1759622399@www.balifoodandtravel.com
SUMMARY:Club Corazon Weekend: Inafekt x PNNY + PETIT
DESCRIPTION:Uluwatu’s home of sound and light\, Club Corazon\, delivers another unmissable weekend of music and atmosphere \nFriday\, 3rd October – Inafekt ft. PNNY\nInternational guest Inafekt (Charlie Gray) takes over the Corazon decks for the first time. With more than a decade of experience shaping a sound that drifts effortlessly between house\, techno\, disco\, and beyond\, Inafekt is celebrated for his ability to blend forgotten gems with cutting-edge tracks. His global journey has seen him perform at festivals and clubs across Europe and Ibiza — from Zeezout and Shelter in Amsterdam to Amnesia and Ushuaïa — with releases on respected labels like Correspondant\, Shall Not Fade\, and Nervous Records. This Friday\, he joins forces with Corazon’s Friday residents\, PNNY\, promising a night of high-octane chaos and a dance floor shaped by the moment. \nSaturday\, 4th October – PETIT: Dress & Dance\nStep upstairs for PETIT\, Club Corazon’s intimate signature affair. Designed for connection and refined energy\, PETIT offers an atmosphere of golden touches\, low lighting\, and luxe detail. Begin with slow sips and conversations\, then drift into a carefully curated dance floor carried by warm\, groove-driven house. It’s a night made for those who appreciate the art of subtlety — a celebration beyond the average night out. \nTwo nights\, two worlds — one Corazon.
URL:https://www.balifoodandtravel.com/event/club-corazon-weekend-inafekt-x-pnny-petit/
LOCATION:Club Corazon\, Jl. Labuansait No.69\, Pecatu\, Kec. Kuta Sel.\, Kabupaten\, Bali 80361\, Uluwatu\, Indonesia
CATEGORIES:party
ATTACH;FMTTYPE=image/png:https://www.balifoodandtravel.com/wp-content/uploads/2025/09/CC_PETIT-INAFEKT-360-Banner.png
END:VEVENT
BEGIN:VEVENT
DTSTART;VALUE=DATE:20251004
DTEND;VALUE=DATE:20251005
DTSTAMP:20260421T222853
CREATED:20250901T053548Z
LAST-MODIFIED:20250901T053718Z
UID:33533-1759536000-1759622399@www.balifoodandtravel.com
SUMMARY:Vintage Culture Live at Savaya Bali
DESCRIPTION:On Saturday\, October 4\, Savaya Bali presents an unforgettable night with Vintage Culture\, one of the most influential figures in modern electronic music. Renowned for his powerful productions and captivating performances\, Vintage Culture has become a global sensation\, blending deep house\, melodic rhythms\, and emotional intensity that resonate with audiences worldwide. Guests can expect an electrifying set that showcases his unique sound and ability to create unforgettable moments on the dancefloor. Set against the breathtaking clifftop views of Savaya\, this event promises an extraordinary evening of world-class music and atmosphere in one of Bali’s most iconic venues.
URL:https://www.balifoodandtravel.com/event/vintage-culture-live-at-savaya-bali/
LOCATION:Savaya\, Jl. Belimbing Sari\, Banjar Tambiyak\, Pecatu\, Uluwatu\, Kabupaten Badung\, Bali 80364\, Indonesia\, Banjar Tambiyak\, 80364\, Indonesia
CATEGORIES:party
ATTACH;FMTTYPE=image/jpeg:https://www.balifoodandtravel.com/wp-content/uploads/2025/09/SAVAYA_VINTAGE-CULTURE-360.jpg
END:VEVENT
END:VCALENDAR