BEGIN:VCALENDAR
VERSION:2.0
PRODID:-//Bali Food and Travel - ECPv6.15.20//NONSGML v1.0//EN
CALSCALE:GREGORIAN
METHOD:PUBLISH
X-ORIGINAL-URL:https://www.balifoodandtravel.com
X-WR-CALDESC:Events for Bali Food and Travel
REFRESH-INTERVAL;VALUE=DURATION:PT1H
X-Robots-Tag:noindex
X-PUBLISHED-TTL:PT1H
BEGIN:VTIMEZONE
TZID:UTC
BEGIN:STANDARD
TZOFFSETFROM:+0000
TZOFFSETTO:+0000
TZNAME:UTC
DTSTART:20240101T000000
END:STANDARD
END:VTIMEZONE
BEGIN:VEVENT
DTSTART;VALUE=DATE:20250922
DTEND;VALUE=DATE:20250929
DTSTAMP:20260421T204513
CREATED:20250915T025705Z
LAST-MODIFIED:20250915T031132Z
UID:33888-1758499200-1759103999@www.balifoodandtravel.com
SUMMARY:Da Maria - Negroni Week 2025
DESCRIPTION:This September\, Da Maria joins the global Negroni Week celebration – a movement that began in 2013 as a small gathering of bars mixing for a cause\, now inspiring bartenders worldwide to reimagine the iconic cocktail while raising funds for charity. For one week only\, they’re taking the Italo classic and giving it four fresh new personalities: unexpected botanicals\, infused spirits\, and bold twists that stay true to the Negroni’s bitter-sweet soul. \nOn the menu: The Classic Negroni – Gin\, Vermouth Rosso\, Campari\, standing strong as the timeless icon. \nAlongside it\, three original twists by Denny Bakiev and Luca Marcolin:\n•⁠ ⁠The Rosa Guava (gin\, guava wine\, secco vermouth\, Campari)\n•⁠ ⁠The Salato Banana (salted banana gin\, Rosso Vermouth\, Campari)\n• The Tropico Rosso (coconut rum\, jackfruit\, toasted coconut arak\,\nCampari). \nClick here for reservation
URL:https://www.balifoodandtravel.com/event/negroni-week-2025-da-maria/
LOCATION:Da Maria\, Jl. Petitenget No.170\, Kerobokan Kelod\, Bali\, Da Maria\, Jl. Petitenget No.170\, Kerobokan Kelod\, Bali
CATEGORIES:celebration,party
ATTACH;FMTTYPE=image/jpeg:https://www.balifoodandtravel.com/wp-content/uploads/2025/09/Da-Maria-Bali-Negroni-Week-Bali-Food-Travel-.jpeg
END:VEVENT
BEGIN:VEVENT
DTSTART;TZID=UTC:20250926T220000
DTEND;TZID=UTC:20250928T030000
DTSTAMP:20260421T204513
CREATED:20250918T082620Z
LAST-MODIFIED:20250918T082620Z
UID:33940-1758924000-1759028400@www.balifoodandtravel.com
SUMMARY:CLUB CORAZON ULUWATU PRESENTS: A DOUBLE WEEKEND TAKEOVER
DESCRIPTION:Uluwatu’s biggest indoor club is setting the stage for an unforgettable weekend\, bringing together two powerhouse events under one roof. From high-energy house chaos to smooth Hip Hop & R’n’B vibes\, Club Corazon is the only place to be this upcoming weekend.  \nFRIDAY\, SEPTEMBER 26 — PNNY RETURNS FT. HUNTER DEMASE\n\nBali’s own powerhouse collective\, PNNY\, returns home after a string of international shows\, bringing their signature blend of genre-bending chaos\, high-octane energy\, and unpredictable selections. Joining them on the decks is Hunter Demase — Bali-based\, Melbourne-born\, and known for groove-driven sets that light up dancefloors. Together\, they’ll transform Corazon into their playground for one explosive night of sweat\, smiles\, and unforgettable moments. \nSATURDAY\, SEPTEMBER 27 — C.R.E.M.A FT. KIM TURNBULL (UK)\n\nThe vibe flips on Saturday as Club Corazon presents C.R.E.M.A\, a night dedicated to Hip Hop & R’n’B. For one night only\, international DJ Kim Turnbull (UK) takes control. London-born and globally recognized\, Kim’s eclectic sets have graced stages across Europe\, America\, Africa\, and Asia\, with appearances on Rinse FM\, NTS\, and BBC Radio 1. She’ll be joined by Corazon resident DJ Glando for a night built to move the crowd. \nTwo nights. Two worlds. One club.\nThis weekend\, Club Corazon is where Uluwatu comes alive. \nGuestlist for PNNY – 26 September \nGuestlist for C.R.E.M.A -27 September
URL:https://www.balifoodandtravel.com/event/club-corazon-uluwatu-presents-pnny-crema/
LOCATION:Club Corazon\, Jl. Labuansait No.69\, Pecatu\, Kec. Kuta Sel.\, Kabupaten\, Bali 80361\, Uluwatu\, Indonesia
CATEGORIES:party
ATTACH;FMTTYPE=image/jpeg:https://www.balifoodandtravel.com/wp-content/uploads/2025/09/Bali-Food-Travel-Bali-Event-Bali-Party-Club-Corazon-Uluwatu-PNNY.jpeg
ORGANIZER;CN="Club Corazon":MAILTO:bookings@corazonbali.com
END:VEVENT
BEGIN:VEVENT
DTSTART;TZID=UTC:20250927T170000
DTEND;TZID=UTC:20250927T233000
DTSTAMP:20260421T204513
CREATED:20250919T094831Z
LAST-MODIFIED:20250919T094831Z
UID:34020-1758992400-1759015800@www.balifoodandtravel.com
SUMMARY:Yawara Bali Dining Experience at Black Sand Brewery Canggu
DESCRIPTION:For one evening only\, Black Sand Brewery Canggu joins forces with Yawara to create a dining experience unlike any other. \nFrom the heart of Japan’s culinary artistry to the bold\, shareable style of Black Sand\, their chefs have built a menu designed to surprise\, delight\, and be shared around the table. Expect crispy prawn bites kissed with spice\, charcoal-grilled tsukune skewers\, brisket sandos layered with depth\, and sliders with a wasabi kick. To end on a refreshing note: a tropical kakigori\, balancing sweetness and light. \nThe night doesn’t end with the food\, their bartenders will be shaking\, stirring\, and pouring a lineup of cocktails made for the occasion. From the bright Wasabi Mango Mule to the indulgent Truffle Old Fashioned\, each drink is designed to pair with the menu\, creating an arc of flavors from first bite to final toast. \nMake your booking here
URL:https://www.balifoodandtravel.com/event/yawara-at-black-sand-brewery/
LOCATION:Black Sand Brewery\, Jl. Pantai Batu Bolong\, Canggu\, Kec. Kuta Utara\, Badung\, Bali\, 80361\, Indonesia
CATEGORIES:bar takeover,dinner
ATTACH;FMTTYPE=image/avif:https://www.balifoodandtravel.com/wp-content/uploads/2025/09/Blacksand-Brewery-Bali-Food-Travel-Canggu-Event-Yawara-Bali.avif
END:VEVENT
BEGIN:VEVENT
DTSTART;TZID=UTC:20250927T180000
DTEND;TZID=UTC:20250927T230000
DTSTAMP:20260421T204513
CREATED:20250924T064726Z
LAST-MODIFIED:20250924T064726Z
UID:34067-1758996000-1759014000@www.balifoodandtravel.com
SUMMARY:Cosmic Table at Dome
DESCRIPTION:Join us at Dome on the last Saturday of every month for Cosmic Table\, an intimate evening combining Dome’s inventive cuisine with natural wine\, contemporary live jazz\, and tarot readings. \nAn introductory glass will be served on arrival\, and our full menu will be available throughout the evening. \nLive music starts at 7PM. \nThis month\, the evening flows into Potato Head Presents: Vegyn. With complimentary access\, you can carry the night’s energy from the table to the dance floor. \nFollow @dome_restaurant.
URL:https://www.balifoodandtravel.com/event/cosmic-table-at-dome/
ATTACH;FMTTYPE=image/jpeg:https://www.balifoodandtravel.com/wp-content/uploads/2025/09/WhatsApp-Image-2025-09-24-at-14.14.22.jpeg
END:VEVENT
BEGIN:VEVENT
DTSTART;TZID=UTC:20250927T190000
DTEND;TZID=UTC:20250928T010000
DTSTAMP:20260421T204513
CREATED:20250909T064550Z
LAST-MODIFIED:20250917T083156Z
UID:33876-1758999600-1759021200@www.balifoodandtravel.com
SUMMARY:Potato Head Presents: Vegyn (DJ Set)\, Reemo\, and Faktta
DESCRIPTION:This September 27th\, as part of his ongoing Asia Pacific tour\, Vegyn lands in Bali\, bringing experimental electronics and left-field hip hop to Desa Potato Head. \nOne of the most quietly influential producers to emerge from the UK scene in recent memory\, Vegyn has shaped the sound of contemporary music in ways that are both subtle and seismic\, defined by a clear artistic voice and a lightness of touch that lifts the work of his peers. \nFrom his collaborations with Frank Ocean\, Travis Scott and JPEGMafia\, to the expansive and deeply personal worlds of his own albums\, like 2024’s The Road to Hell Is Paved with Good Intentions or 2025’s Air-bending Blue Moon Safari\, Vegyn has carved out a space where glitchy electronics\, emotive ambience and hip hop work together in harmony. \nJoining Vegyn on the bill\, local tastemakers Reemo and Faktta open the evening from our oceanside deck\, setting the tone for a night of forward-thinking sounds and connection through music. \nBook here
URL:https://www.balifoodandtravel.com/event/potato-head-presents-vegyn/
LOCATION:Desa Potato Head\, Jalan Petitenget no. 51B\, Seminyak\, Kuta Utara Kabupaten Badung\, Bali — 80361\, Indonesia\, Seminyak\, Indonesia
CATEGORIES:party
ATTACH;FMTTYPE=image/jpeg:https://www.balifoodandtravel.com/wp-content/uploads/2025/09/WhatsApp-Image-2025-09-09-at-12.12.27-2.jpeg
END:VEVENT
END:VCALENDAR