BEGIN:VCALENDAR
VERSION:2.0
PRODID:-//Bali Food and Travel - ECPv6.15.20//NONSGML v1.0//EN
CALSCALE:GREGORIAN
METHOD:PUBLISH
X-WR-CALNAME:Bali Food and Travel
X-ORIGINAL-URL:https://www.balifoodandtravel.com
X-WR-CALDESC:Events for Bali Food and Travel
REFRESH-INTERVAL;VALUE=DURATION:PT1H
X-Robots-Tag:noindex
X-PUBLISHED-TTL:PT1H
BEGIN:VTIMEZONE
TZID:Asia/Shanghai
BEGIN:STANDARD
TZOFFSETFROM:+0800
TZOFFSETTO:+0800
TZNAME:CST
DTSTART:20240101T000000
END:STANDARD
END:VTIMEZONE
BEGIN:VTIMEZONE
TZID:UTC
BEGIN:STANDARD
TZOFFSETFROM:+0000
TZOFFSETTO:+0000
TZNAME:UTC
DTSTART:20240101T000000
END:STANDARD
END:VTIMEZONE
BEGIN:VEVENT
DTSTART;VALUE=DATE:20250920
DTEND;VALUE=DATE:20250922
DTSTAMP:20260421T223000
CREATED:20250801T030307Z
LAST-MODIFIED:20250807T030253Z
UID:32931-1758326400-1758499199@www.balifoodandtravel.com
SUMMARY:Zamna Festival Returns to Savaya Bali with a Two-Day Celebration
DESCRIPTION:Zamna Festival\, one of the world’s most exciting electronic music experiences\, returns to Savaya Bali for another unforgettable edition on September 20 and 21\, 2025. Originating in Tulum\, Mexico\, in 2017\, Zamna has grown into a global phenomenon\, captivating audiences in cities like Ibiza\, Madrid\, Miami\, São Paulo\, and New York—with Bali remaining one of its most anticipated international stops. \nFollowing the success of its previous appearances at Savaya—including its debut in 2023 and two standout editions in 2024—Zamna once again transforms the iconic cliffside venue into a sanctuary of sound\, nature\, and freedom. Surrounded by lush jungle and the Indian Ocean\, this immersive weekend invites music lovers into an atmospheric journey that bridges natural beauty with cutting-edge electronic sounds. \nThe experience begins on September 20\, featuring performances by Agents of Time\, Korolova\, Stephan Bodzin (Live)\, and Toto Chiavetta. The energy continues on September 21\, with Fka Mash\, Laolu\, Merlon\, and Moeaike bringing their distinctive sounds to the Savaya stage. \nWith its signature blend of world-class production\, vibrant crowd\, and scenic surroundings\, Zamna Bali 2025 promises to be more than just a festival—it’s a celebration of rhythm\, connection\, and unforgettable moments. \nFor details and tickets\, visit savaya.com.
URL:https://www.balifoodandtravel.com/event/a-weekend-of-sound-zamna-festival-at-savaya/
LOCATION:Savaya\, Jl. Belimbing Sari\, Banjar Tambiyak\, Pecatu\, Uluwatu\, Kabupaten Badung\, Bali 80364\, Indonesia\, Banjar Tambiyak\, 80364\, Indonesia
CATEGORIES:party
ATTACH;FMTTYPE=image/jpeg:https://www.balifoodandtravel.com/wp-content/uploads/2025/08/250920-21_SAVAYA_ZAMNABALI_Line_Up_Townscript.jpg
END:VEVENT
BEGIN:VEVENT
DTSTART;VALUE=DATE:20250920
DTEND;VALUE=DATE:20250922
DTSTAMP:20260421T223000
CREATED:20250902T035821Z
LAST-MODIFIED:20250902T035821Z
UID:33539-1758326400-1758499199@www.balifoodandtravel.com
SUMMARY:Latin-Indonesia Hermanos: A Culinary Fusion of Cultures
DESCRIPTION:The “Latin-Indonesia Hermanos” event is a unique culinary collaboration taking place on September 20–21\, 2025\, at Sheraton Bali Kuta Resort. This two-day food experience brings together three acclaimed chefs—Juan Carlos Eyzaguirre from Peru\, Rangga Safari from Indonesia\, and Silvio Martínez from Mexico—for a bold fusion of Latin American and Indonesian flavors. Under the theme “Three Cultures. One Kitchen. A Flavor Explosion\,” the event showcases a vibrant weekend of cultural and gastronomic exchange. \nThe festivities begin on Saturday\, September 20\, with “Sabores de la Calle” at &More by Sheraton\, from 5 PM to 9 PM. Guests can enjoy an energetic street food experience featuring Latin and Indonesian delicacies\, accompanied by live DJ music\, food stalls\, and traditional dancers. The celebration continues on Sunday\, September 21\, with “Fusión Festiva” at Daily Social from 12 PM to 3:30 PM. This brunch event blends Latin and Indonesian dishes with live music and performances\, creating a dynamic and flavorful atmosphere. Hosted by Sheraton Bali Kuta Resort and supported by local and international culinary partners\, the event promises an unforgettable journey through taste and culture.
URL:https://www.balifoodandtravel.com/event/latin-indonesia-hermanos-a-culinary-fusion-of-cultures/
LOCATION:Sheraton\, Sheraton Bali Kuta Resort Jl. Pantai Kuta\, Kuta\, Kabupaten Badung\, 80361\, Indonesia
CATEGORIES:celebration,Culture,dinner
ATTACH;FMTTYPE=image/jpeg:https://www.balifoodandtravel.com/wp-content/uploads/2025/09/LATIN-INDONESIA-HERMANOS-360-scaled.jpg
END:VEVENT
BEGIN:VEVENT
DTSTART;TZID=UTC:20250921T160000
DTEND;TZID=UTC:20250921T220000
DTSTAMP:20260421T223000
CREATED:20250915T041133Z
LAST-MODIFIED:20250915T041221Z
UID:33895-1758470400-1758492000@www.balifoodandtravel.com
SUMMARY:W Bali Seminyak - One Last Sunset: Sundown Society Special Edition with  Jody Wisternoff (Anjunadeep) at Woobar\, W Bali – Seminyak
DESCRIPTION:Seminyak\, Bali\, September 2025 – W Bali – Seminyak is turning up the volume one more time before Woobar takes a stylish pause for its exciting transformation. For this very special send-off\, Sundown Society returns with an exclusive edition featuring UK producer Jody Wisternoff\, co-founder of Way Out West and a key figure behind the globally acclaimed Anjunadeep label. \nAs the sun melts into the horizon\, Jody will take over Woobar’s iconic beachfront decks with his signature melodic house and progressive beats\, creating an unforgettable soundtrack for this milestone celebration. \nA Sunset Soundtrack by Anjunadeep’s Finest \nExpect soulful sounds\, crafted cocktails\, and the electric W vibe as Bali’s most stylish crowd gathers seaside for one last Sundown Society at Woobar – before it reemerges with a brand-new look and energy. \nEvent Details \n\nDate: Sunday\, 21 September 2025\nTime: 4 PM – 10 PM\nVenue: Woobar\, W Bali – Seminyak\n\nLine-up \n\nHeadliner: Jody Wisternoff (Anjunadeep / UK)\nSupporting acts by W Bali – Seminyak’s resident DJs\n\nEntrance Tickets & Packages \n\nGeneral Admission: Free Entry\nTable Packages:\n\nVIP: IDR 3\,500\,000 inclusive of 1 bottle of premium spirits\, 6 cans of soft drinks or 2 jugs of juice\, and 4 wristbands.\nSuper VIP: IDR 4\,000\,000 inclusive of 1 bottle of premium spirits\, 6 cans of soft drinks or 4 jugs of juice\, and 4 wristbands.\n\n\n\nTable packages are available now via Megatix. \nThe Final Sunset\, Until We Meet Again \nThis isn’t goodbye – it’s a see you soon. Join us as we celebrate the final Sundown Society at Woobar in its current form\, before it returns refreshed\, reimagined\, and ready for more unforgettable nights. \nFor table reservations and more information\, visit woobarbali.com or email us at bf.wbali@whotels.com.
URL:https://www.balifoodandtravel.com/event/w-bali-seminyak-one-last-sunset-sundown-society-special-edition-with-jody-wisternoff-anjunadeep-at-woobar-w-bali-seminyak/
LOCATION:Woobar\, W Bali – Seminyak
CATEGORIES:party
ATTACH;FMTTYPE=image/jpeg:https://www.balifoodandtravel.com/wp-content/uploads/2025/09/Sundown-Society-W-Bali-Seminyak-Bali-Food-and-Travel.jpeg
END:VEVENT
END:VCALENDAR