BEGIN:VCALENDAR
VERSION:2.0
PRODID:-//Bali Food and Travel - ECPv6.15.20//NONSGML v1.0//EN
CALSCALE:GREGORIAN
METHOD:PUBLISH
X-WR-CALNAME:Bali Food and Travel
X-ORIGINAL-URL:https://www.balifoodandtravel.com
X-WR-CALDESC:Events for Bali Food and Travel
REFRESH-INTERVAL;VALUE=DURATION:PT1H
X-Robots-Tag:noindex
X-PUBLISHED-TTL:PT1H
BEGIN:VTIMEZONE
TZID:UTC
BEGIN:STANDARD
TZOFFSETFROM:+0000
TZOFFSETTO:+0000
TZNAME:UTC
DTSTART:20240101T000000
END:STANDARD
END:VTIMEZONE
BEGIN:VEVENT
DTSTART;TZID=UTC:20250919T220000
DTEND;TZID=UTC:20250920T220000
DTSTAMP:20260421T204343
CREATED:20250912T023838Z
LAST-MODIFIED:20250912T024432Z
UID:33884-1758319200-1758405600@www.balifoodandtravel.com
SUMMARY:Club Corazon Uluwatu - A Weekend of Distinction: PNNY and OLÉ Take Over
DESCRIPTION:Club Corazon Uluwatu closes out September with two unmissable nights that showcase the best of Bali’s homegrown talent and signature Corazon energy. \nOn Friday\, September 19th\, we welcome PNNY back to the Corazon stage. The Bali-based collective\, known for igniting dancefloors across the island and beyond\, bring their infectious energy and dynamic sound for a homecoming celebration you won’t want to miss. Expect an electrifying night of grooves\, rhythms\, and the unmistakable PNNY vibe that has taken them global. \nThe celebration continues on Saturday\, September 20th\, with the return of OLÉ — Club Corazon’s signature Latin-inspired fiesta. From reggaeton and salsa to house with a tropical twist\, OLÉ transforms the club into a vibrant playground of movement\, rhythm\, and color. \nTwo nights. Two different flavors. One heartbeat. This is Corazon. \nGUESTLIST FOR PNNY – 19 September \nGET 20% TICKET DISCOUNT FOR OLÉ – 20 September
URL:https://www.balifoodandtravel.com/event/corazon-pnny-and-ole-take-over/
LOCATION:Club Corazon\, Jl. Labuansait No.69\, Pecatu\, Kec. Kuta Sel.\, Kabupaten\, Bali 80361\, Uluwatu\, Indonesia
CATEGORIES:party
ATTACH;FMTTYPE=image/jpeg:https://www.balifoodandtravel.com/wp-content/uploads/2025/09/Club-Corazon-Uluwatu-Bali-Food-Travel-PNNY-Ole-September-Bali-Party.jpeg
ORGANIZER;CN="Club Corazon":MAILTO:bookings@corazonbali.com
END:VEVENT
END:VCALENDAR