BEGIN:VCALENDAR
VERSION:2.0
PRODID:-//Bali Food and Travel - ECPv6.15.20//NONSGML v1.0//EN
CALSCALE:GREGORIAN
METHOD:PUBLISH
X-ORIGINAL-URL:https://www.balifoodandtravel.com
X-WR-CALDESC:Events for Bali Food and Travel
REFRESH-INTERVAL;VALUE=DURATION:PT1H
X-Robots-Tag:noindex
X-PUBLISHED-TTL:PT1H
BEGIN:VTIMEZONE
TZID:UTC
BEGIN:STANDARD
TZOFFSETFROM:+0000
TZOFFSETTO:+0000
TZNAME:UTC
DTSTART:20240101T000000
END:STANDARD
END:VTIMEZONE
BEGIN:VEVENT
DTSTART;TZID=UTC:20250915T170000
DTEND;TZID=UTC:20250915T233000
DTSTAMP:20260421T204512
CREATED:20250828T033129Z
LAST-MODIFIED:20250828T043757Z
UID:33496-1757955600-1757979000@www.balifoodandtravel.com
SUMMARY:Motel Mexicola Presents Mexican Independence Day
DESCRIPTION:Motel Mexicola is throwing a full-venue\, full-throttle celebration at both Seminyak and\nCanggu locations for Mexican Independence Day. \nTraditionally\, on the evening of September 15\, Mexico enters into a highly symbolic and\nfestive prelude to Independence Day. ‘Día de La Independencia’ is celebrated in Mexico\nwhere streets explode with mariachi\, flags wave from rooftops\, fireworks fill the air\, tacos line\nthe sidewalks\, and tequila is raised to the sky. At around 11 p.m.\, the ringing of the historic\nbell is the moment that marks the true beginning of Independence Day. It’s not just a date on\nthe calendar; it’s a living\, breathing celebration of resilience\, culture\, and joy. Raw. Loud.\nUnapologetic. \nFor them\, it’s not only about history\, it’s about owning their story\, embracing every flaw and\nevery flair. That’s why Motel Mexicola goes big: colour\, rebellion\, connection\, food\, music\,\nand glorious chaos. \nThis year’s Independence Day menu is their culinary love letter to the Gulf of Mexico\, the\ncradle of spice\, smoke\, and soul. From Yucatán heat to Veracruz\, each dish carries\ngenerations of recipes\, stories of resistance\, and the spirit of celebration. This isn’t just food.\nIt’s a cultural memory\, grilled and served hot. \nThey’re serving ‘Gulf of Mexico’ cuisine\, not because they changed\, but because borders did.\nThis is their culinary middle finger to walls\, bans\, and nationalism. This menu is for thepeople. It’s for history. It’s for flavour that migrates\, transforms\, and refuses to be colonised. \nDinner kicks off the celebration\, and that’s not all… La Lotería will be played during dinner\nfrom 7-8PM! Get ready for a lively round of Mexico’s beloved game of chance. It’s like\n‘bingo’\, but way more fun\, and with a cultural twist. Listen closely\, mark your cards\, and get\nready for the chaos\, with grand prizes to be WON! \nOh\, and there will be 50K margaritas and micheladas from 5-8pm – so join them for the\nfestivities early!
URL:https://www.balifoodandtravel.com/event/motel-mexicola-presents-mexican-independence-day/
LOCATION:Motel Mexicola\, Jl. Kayu Jati No.9X\, Kerobokan Kelod\, Kec. Kuta Utara\, Kabupaten Badung\, Bali 80361\, Indonesia
CATEGORIES:celebration,dinner,party
ATTACH;FMTTYPE=image/jpeg:https://www.balifoodandtravel.com/wp-content/uploads/2025/08/Motel-Mexicola-Bali-Food-Travel-Mexican-Independence-Day-Canggu-Seminyak.jpeg
END:VEVENT
END:VCALENDAR