BEGIN:VCALENDAR
VERSION:2.0
PRODID:-//Bali Food and Travel - ECPv6.15.20//NONSGML v1.0//EN
CALSCALE:GREGORIAN
METHOD:PUBLISH
X-ORIGINAL-URL:https://www.balifoodandtravel.com
X-WR-CALDESC:Events for Bali Food and Travel
REFRESH-INTERVAL;VALUE=DURATION:PT1H
X-Robots-Tag:noindex
X-PUBLISHED-TTL:PT1H
BEGIN:VTIMEZONE
TZID:Asia/Shanghai
BEGIN:STANDARD
TZOFFSETFROM:+0800
TZOFFSETTO:+0800
TZNAME:CST
DTSTART:20240101T000000
END:STANDARD
END:VTIMEZONE
BEGIN:VEVENT
DTSTART;VALUE=DATE:20250914
DTEND;VALUE=DATE:20250915
DTSTAMP:20260421T223053
CREATED:20250901T032432Z
LAST-MODIFIED:20250901T032432Z
UID:33517-1757808000-1757894399@www.balifoodandtravel.com
SUMMARY:Sevenn Live at Savaya Bali
DESCRIPTION:On Sunday\, September 14\, Savaya Bali welcomes Sevenn\, the globally recognized DJ and producer celebrated for his innovative sound and genre-defying sets. Known for blending melodic house\, techno\, and electronic influences into a powerful signature style\, Sevenn has captivated audiences around the world\, and now brings his energy to Bali’s iconic cliffside venue. With the breathtaking backdrop of the Indian Ocean and Savaya’s renowned atmosphere\, guests will experience a night of unforgettable music\, immersive rhythms\, and world-class production in one of the island’s most spectacular settings.
URL:https://www.balifoodandtravel.com/event/sevenn-live-at-savaya-bali/
LOCATION:Savaya\, Jl. Belimbing Sari\, Banjar Tambiyak\, Pecatu\, Uluwatu\, Kabupaten Badung\, Bali 80364\, Indonesia\, Banjar Tambiyak\, 80364\, Indonesia
CATEGORIES:party
ATTACH;FMTTYPE=image/jpeg:https://www.balifoodandtravel.com/wp-content/uploads/2025/09/SAVAYA_SEVENN-360.jpg
END:VEVENT
END:VCALENDAR