BEGIN:VCALENDAR
VERSION:2.0
PRODID:-//Bali Food and Travel - ECPv6.15.20//NONSGML v1.0//EN
CALSCALE:GREGORIAN
METHOD:PUBLISH
X-WR-CALNAME:Bali Food and Travel
X-ORIGINAL-URL:https://www.balifoodandtravel.com
X-WR-CALDESC:Events for Bali Food and Travel
REFRESH-INTERVAL;VALUE=DURATION:PT1H
X-Robots-Tag:noindex
X-PUBLISHED-TTL:PT1H
BEGIN:VTIMEZONE
TZID:UTC
BEGIN:STANDARD
TZOFFSETFROM:+0000
TZOFFSETTO:+0000
TZNAME:UTC
DTSTART:20240101T000000
END:STANDARD
END:VTIMEZONE
BEGIN:VTIMEZONE
TZID:Asia/Shanghai
BEGIN:STANDARD
TZOFFSETFROM:+0800
TZOFFSETTO:+0800
TZNAME:CST
DTSTART:20240101T000000
END:STANDARD
END:VTIMEZONE
BEGIN:VEVENT
DTSTART;TZID=UTC:20250912T220000
DTEND;TZID=UTC:20250913T233000
DTSTAMP:20260421T223004
CREATED:20250903T034218Z
LAST-MODIFIED:20250903T034218Z
UID:33662-1757714400-1757806200@www.balifoodandtravel.com
SUMMARY:CLUB CORAZON ULUWATU PRESENTS BALDO & PETIT TAKE THE STAGE FOR ONE WEEKEND.
DESCRIPTION:On Friday\, September 12th\, Club Corazon welcomes Baldo — Barcelona-based DJ\, producer\, and label head of Subwax Distribution and Physical Education. With acclaimed releases on respected imprints such as Running Back and Permanent Vacation\, Baldo has carved his place as a leading figure in Europe’s underground scene. His sets weave driving rhythms\, warm melodies\, and timeless grooves into a true dancefloor journey — the perfect start to a month of world-class music at Corazon. \nThe celebration continues on Saturday\, September 13th\, with PETIT — an elevated dinner-to-dance affair unlike anything else in Uluwatu. The evening begins with a curated menu in an intimately styled setting\, designed for connection\, indulgence\, and slow sips martinis. As the night unfolds\, the space transforms into a refined dance experience\, guided by warm\, groove-driven house rhythms. Expect golden touches\, low lighting\, and a touch of luxe energy throughout — a celebration created for those who appreciate the details.\n\nGet your tickets now\, and don’t miss out on these events! \n  \nBALDO 20% Discount Ticket \nPETIT 20% Discount Ticket 
URL:https://www.balifoodandtravel.com/event/club-corazon-baldo-petit/
LOCATION:Club Corazon\, Jl. Labuansait No.69\, Pecatu\, Kec. Kuta Sel.\, Kabupaten\, Bali 80361\, Uluwatu\, Indonesia
CATEGORIES:dinner,party
ATTACH;FMTTYPE=image/jpeg:https://www.balifoodandtravel.com/wp-content/uploads/2025/09/Club-Corazon-Uluwatu-Bali-Food-Travel-September-Bali-Party-1.jpeg
ORGANIZER;CN="Club Corazon":MAILTO:bookings@corazonbali.com
END:VEVENT
BEGIN:VEVENT
DTSTART;VALUE=DATE:20250913
DTEND;VALUE=DATE:20250914
DTSTAMP:20260421T223004
CREATED:20250901T051611Z
LAST-MODIFIED:20250901T053827Z
UID:33529-1757721600-1757807999@www.balifoodandtravel.com
SUMMARY:Flight Facilities Live at Savaya Bali
DESCRIPTION:On Saturday\, September 13\, Savaya Bali presents a special edition of its HIGHER series featuring Flight Facilities with an exclusive DJ set\, alongside support from Loods. Known for their eclectic blend of electronic grooves and crowd-moving energy\, Flight Facilities have earned global recognition for their dynamic performances and timeless productions. Joining them\, Loods brings his infectious house sound to the stage\, ensuring a night of pulsating rhythms and high-energy vibes. With doors opening at 3 PM\, guests will enjoy a full day and evening of world-class music set against Savaya’s iconic clifftop views overlooking the ocean\, creating an unforgettable experience at one of Bali’s most spectacular venues.
URL:https://www.balifoodandtravel.com/event/flight-facilities-live-at-savaya-bali/
LOCATION:Savaya\, Jl. Belimbing Sari\, Banjar Tambiyak\, Pecatu\, Uluwatu\, Kabupaten Badung\, Bali 80364\, Indonesia\, Banjar Tambiyak\, 80364\, Indonesia
CATEGORIES:party
ATTACH;FMTTYPE=image/jpeg:https://www.balifoodandtravel.com/wp-content/uploads/2025/09/SAVAYA_Flight-Facilities-360.jpg
END:VEVENT
END:VCALENDAR