BEGIN:VCALENDAR
VERSION:2.0
PRODID:-//Bali Food and Travel - ECPv6.15.20//NONSGML v1.0//EN
CALSCALE:GREGORIAN
METHOD:PUBLISH
X-WR-CALNAME:Bali Food and Travel
X-ORIGINAL-URL:https://www.balifoodandtravel.com
X-WR-CALDESC:Events for Bali Food and Travel
REFRESH-INTERVAL;VALUE=DURATION:PT1H
X-Robots-Tag:noindex
X-PUBLISHED-TTL:PT1H
BEGIN:VTIMEZONE
TZID:Asia/Shanghai
BEGIN:STANDARD
TZOFFSETFROM:+0800
TZOFFSETTO:+0800
TZNAME:CST
DTSTART:20240101T000000
END:STANDARD
END:VTIMEZONE
BEGIN:VEVENT
DTSTART;VALUE=DATE:20250909
DTEND;VALUE=DATE:20250910
DTSTAMP:20260421T222956
CREATED:20250901T031655Z
LAST-MODIFIED:20250901T031655Z
UID:33512-1757376000-1757462399@www.balifoodandtravel.com
SUMMARY:Solardo Live at Savaya Bali
DESCRIPTION:On Saturday\, September 9\, Savaya Bali will host an electrifying performance by Solardo\, the acclaimed DJ and production duo known for their dynamic house and techno beats. Set against the backdrop of Bali’s stunning coastline\, this event promises an unforgettable evening of high-energy music\, vibrant atmosphere\, and world-class entertainment. Guests can expect Solardo’s signature sound\, blending underground influences with festival-ready rhythms\, making it a night designed for music lovers and partygoers alike. Savaya\, renowned for its breathtaking cliffside views and cutting-edge venue design\, provides the perfect stage for this extraordinary event.
URL:https://www.balifoodandtravel.com/event/solardo-live-at-savaya-bali/
LOCATION:Savaya\, Jl. Belimbing Sari\, Banjar Tambiyak\, Pecatu\, Uluwatu\, Kabupaten Badung\, Bali 80364\, Indonesia\, Banjar Tambiyak\, 80364\, Indonesia
CATEGORIES:party
ATTACH;FMTTYPE=image/jpeg:https://www.balifoodandtravel.com/wp-content/uploads/2025/09/SAVAYA-SOLARDO-360-.jpg
END:VEVENT
END:VCALENDAR