BEGIN:VCALENDAR
VERSION:2.0
PRODID:-//Bali Food and Travel - ECPv6.15.20//NONSGML v1.0//EN
CALSCALE:GREGORIAN
METHOD:PUBLISH
X-ORIGINAL-URL:https://www.balifoodandtravel.com
X-WR-CALDESC:Events for Bali Food and Travel
REFRESH-INTERVAL;VALUE=DURATION:PT1H
X-Robots-Tag:noindex
X-PUBLISHED-TTL:PT1H
BEGIN:VTIMEZONE
TZID:Asia/Shanghai
BEGIN:STANDARD
TZOFFSETFROM:+0800
TZOFFSETTO:+0800
TZNAME:CST
DTSTART:20240101T000000
END:STANDARD
END:VTIMEZONE
BEGIN:VEVENT
DTSTART;VALUE=DATE:20250907
DTEND;VALUE=DATE:20250908
DTSTAMP:20260421T204359
CREATED:20250901T050828Z
LAST-MODIFIED:20250901T050828Z
UID:33525-1757203200-1757289599@www.balifoodandtravel.com
SUMMARY:Topic Live at Savaya Bali
DESCRIPTION:On Sunday\, September 7\, Savaya Bali presents an exclusive performance by Topic\, the internationally acclaimed DJ and producer behind some of the biggest hits in electronic music. Known for his signature blend of melodic house and emotive dance tracks\, Topic has captivated audiences worldwide with chart-topping releases and unforgettable live sets. This event promises an evening of powerful melodies\, deep rhythms\, and an immersive atmosphere set against the breathtaking backdrop of Savaya’s cliffside venue overlooking the Indian Ocean. Guests can look forward to a night of world-class music and unforgettable moments in one of Bali’s most iconic destinations.
URL:https://www.balifoodandtravel.com/event/topic-live-at-savaya-bali/
LOCATION:Savaya\, Jl. Belimbing Sari\, Banjar Tambiyak\, Pecatu\, Uluwatu\, Kabupaten Badung\, Bali 80364\, Indonesia\, Banjar Tambiyak\, 80364\, Indonesia
CATEGORIES:party
ATTACH;FMTTYPE=image/jpeg:https://www.balifoodandtravel.com/wp-content/uploads/2025/09/SAVAYA_TOPIC-360.jpg
END:VEVENT
END:VCALENDAR