BEGIN:VCALENDAR
VERSION:2.0
PRODID:-//Bali Food and Travel - ECPv6.15.20//NONSGML v1.0//EN
CALSCALE:GREGORIAN
METHOD:PUBLISH
X-ORIGINAL-URL:https://www.balifoodandtravel.com
X-WR-CALDESC:Events for Bali Food and Travel
REFRESH-INTERVAL;VALUE=DURATION:PT1H
X-Robots-Tag:noindex
X-PUBLISHED-TTL:PT1H
BEGIN:VTIMEZONE
TZID:Asia/Shanghai
BEGIN:STANDARD
TZOFFSETFROM:+0800
TZOFFSETTO:+0800
TZNAME:CST
DTSTART:20240101T000000
END:STANDARD
END:VTIMEZONE
BEGIN:VTIMEZONE
TZID:UTC
BEGIN:STANDARD
TZOFFSETFROM:+0000
TZOFFSETTO:+0000
TZNAME:UTC
DTSTART:20240101T000000
END:STANDARD
END:VTIMEZONE
BEGIN:VEVENT
DTSTART;VALUE=DATE:20250905
DTEND;VALUE=DATE:20250906
DTSTAMP:20260421T204517
CREATED:20250901T030033Z
LAST-MODIFIED:20250901T030033Z
UID:33509-1757030400-1757116799@www.balifoodandtravel.com
SUMMARY:The Grand Totem at Savaya Bali
DESCRIPTION:On Friday\, September 5\, Savaya Bali presents The Grand Totem\, a night where rhythm meets the cliffside energy of Uluwatu. From the moment the doors open at 1 PM\, the atmosphere transforms into a celebration of sound\, featuring an eclectic lineup that blends creativity\, energy\, and unforgettable beats. Jose’ Experience and Stay Golden will set the tone with their signature styles\, followed by dynamic sets from Imen\, Dobé\, and Gibs. Each performance is designed to carry the audience deeper into the evening\, building toward a seamless journey of music and connection. With its iconic setting overlooking the ocean\, Savaya offers the perfect backdrop for a night that promises to be both immersive and unforgettable.
URL:https://www.balifoodandtravel.com/event/the-grand-totem-at-savaya-bali/
LOCATION:Savaya\, Jl. Belimbing Sari\, Banjar Tambiyak\, Pecatu\, Uluwatu\, Kabupaten Badung\, Bali 80364\, Indonesia\, Banjar Tambiyak\, 80364\, Indonesia
CATEGORIES:party
ATTACH;FMTTYPE=image/jpeg:https://www.balifoodandtravel.com/wp-content/uploads/2025/09/250905_SAVAYA_THE-GRAND-TOTEM_FB_Event-Header.jpg
END:VEVENT
BEGIN:VEVENT
DTSTART;TZID=UTC:20250905T220000
DTEND;TZID=UTC:20250906T233000
DTSTAMP:20260421T204517
CREATED:20250901T025157Z
LAST-MODIFIED:20250901T025157Z
UID:33504-1757109600-1757201400@www.balifoodandtravel.com
SUMMARY:CLUB CORAZON ULUWATU - TWO NIGHTS\, TWO GENRES\, ONE  WEEKEND
DESCRIPTION:This September\, Club Corazon turns up the heat with a weekend of world-class music and pure dancefloor energy. \nOn Friday\, September 5th\, Bali’s very own PNNY returned home after an electrifying run across Europe. Fresh off their tour\, the collective is set to bring their signature blend of deep grooves\, genre-spanning rhythms\, and unstoppable energy back to the Corazon stage. Expect a night that celebrates their journey abroad while reminding us why they remain one of Indonesia’s most exciting acts. \nThe celebration continues on Saturday\, September 6th\, with C.R.E.M.A featuring Jnaro + Glando. Jakarta-born and Bali-based\, Jnaro (aka DAFFABEDAMNED) delivers an instinct-driven\, open-format style that effortlessly blends rap\, funk\, soul\, bass-heavy beats\, and unexpected curveballs that keep the crowd moving. With over a decade of experience and an ear for the unexpected\, his sets ignite the dancefloor with genre-bending flair. Joining him is Glando\, adding his own energy to what promises to be a night of pure\, unfiltered fun. \nEnjoy 200K Free Flow for Ladies from 10PM – 12AM\, specifically for C.R.E.M.A. \nSee you on the dance-floor!  \n  \nGL PNNY:  mtix.me/360baligl0509\nGL C.R.E.M.A: mtix.me/360balicremagl0609
URL:https://www.balifoodandtravel.com/event/club-corazon-two-nights-two-genres-one-weekend/
LOCATION:Club Corazon\, Jl. Labuansait No.69\, Pecatu\, Kec. Kuta Sel.\, Kabupaten\, Bali 80361\, Uluwatu\, Indonesia
CATEGORIES:party
ATTACH;FMTTYPE=image/jpeg:https://www.balifoodandtravel.com/wp-content/uploads/2025/09/Club-Corazon-Uluwatu-September-Bali-Food-Travel.jpeg
END:VEVENT
END:VCALENDAR