BEGIN:VCALENDAR
VERSION:2.0
PRODID:-//Bali Food and Travel - ECPv6.15.20//NONSGML v1.0//EN
CALSCALE:GREGORIAN
METHOD:PUBLISH
X-ORIGINAL-URL:https://www.balifoodandtravel.com
X-WR-CALDESC:Events for Bali Food and Travel
REFRESH-INTERVAL;VALUE=DURATION:PT1H
X-Robots-Tag:noindex
X-PUBLISHED-TTL:PT1H
BEGIN:VTIMEZONE
TZID:UTC
BEGIN:STANDARD
TZOFFSETFROM:+0000
TZOFFSETTO:+0000
TZNAME:UTC
DTSTART:20240101T000000
END:STANDARD
END:VTIMEZONE
BEGIN:VEVENT
DTSTART;VALUE=DATE:20250823
DTEND;VALUE=DATE:20250824
DTSTAMP:20260421T204349
CREATED:20250731T025143Z
LAST-MODIFIED:20250731T025143Z
UID:32918-1755907200-1755993599@www.balifoodandtravel.com
SUMMARY:Indonesia’s 80th Independence Day Celebration | Red-White & Freedom at Above 66
DESCRIPTION:To mark the 80th anniversary of Indonesia’s independence\, Rooftop Sunset Bar presents Red-White & Freedom: Party Above 66 on Friday\, 23 August 2025\, from 5 PM to 11 PM. This rooftop event offers a blend of cultural tradition and modern entertainment against the backdrop of a coastal sunset. \nGuests can enjoy a Buy 1 Get 1 promotion on all 66 Signature Cocktails\, created to highlight the rich flavors of Indonesia. The evening program includes a Modern Nusantara dance performance\, a kerupuk-eating contest with prizes\, and curated house and afrohouse DJ sets. \nEveryone is invited to wear red and white and take part in a celebration that honors unity\, diversity\, and national pride. Open to both Indonesians and international visitors\, the event offers a space to connect\, reflect\, and celebrate eight decades of independence. \nFor reservations or more information:📧 fbreservation@double-six.com📞 +62 811-3831-0166
URL:https://www.balifoodandtravel.com/event/indonesias-80th-independence-day-celebration-red-white-freedom-at-above-66/
LOCATION:Rooftop Sunset Bar\, 8536+M5H\, Jl. Pantai Legian Jl. Double Six No.66\, Seminyak\, Kec. Kuta\, Kabupaten Badung\, Bali 80361\, Badung\, Bali\, 80361\, Indonesia
CATEGORIES:celebration,dinner
ATTACH;FMTTYPE=image/jpeg:https://www.balifoodandtravel.com/wp-content/uploads/2025/07/RT-RED-WHITE-AND-RISE-BILLBOARD-1920x1080-PX-copy.jpg
END:VEVENT
BEGIN:VEVENT
DTSTART;VALUE=DATE:20250823
DTEND;VALUE=DATE:20250824
DTSTAMP:20260421T204349
CREATED:20250812T043711Z
LAST-MODIFIED:20250812T043711Z
UID:33247-1755907200-1755993599@www.balifoodandtravel.com
SUMMARY:Peking Duk DJ Set Live at Savaya Bali – Saturday\, August 23\, 2025
DESCRIPTION:On Saturday\, August 23\, 2025\, Savaya Bali will host an electrifying DJ set from Peking Duk\, the Australian duo known for their chart-topping hits and high-energy performances. With their signature fusion of electronic beats\, infectious hooks\, and festival-ready anthems\, Peking Duk have become a global phenomenon\, captivating audiences from major music festivals to intimate club stages. Set against the breathtaking backdrop of Savaya’s iconic clifftop venue in Uluwatu\, this performance promises an unforgettable evening of music\, energy\, and stunning ocean views. Fans of electronic music events\, DJ performances\, and international acts in Bali won’t want to miss this exclusive date.
URL:https://www.balifoodandtravel.com/event/peking-duk-dj-set-live-at-savaya-bali-saturday-august-23-2025/
LOCATION:Savaya\, Jl. Belimbing Sari\, Banjar Tambiyak\, Pecatu\, Uluwatu\, Kabupaten Badung\, Bali 80364\, Indonesia\, Banjar Tambiyak\, 80364\, Indonesia
CATEGORIES:party
ATTACH;FMTTYPE=image/jpeg:https://www.balifoodandtravel.com/wp-content/uploads/2025/08/250823_SAVAYA_PEKING-DUK_Full-HD_1920x1080.jpg
END:VEVENT
BEGIN:VEVENT
DTSTART;VALUE=DATE:20250823
DTEND;VALUE=DATE:20250824
DTSTAMP:20260421T204349
CREATED:20250818T022534Z
LAST-MODIFIED:20250818T022546Z
UID:33351-1755907200-1755993599@www.balifoodandtravel.com
SUMMARY:Giggles for Good: A Charity Brunch for Mental Health Awareness
DESCRIPTION:Giggles for Good will be held on Saturday\, 23 August 2025\, starting at 12:00 PM at Hippie Fish\, Canggu. This charity brunch combines laughter\, connection\, and great food to support mental health education and prevention in Bali through Bali Bersama Bisa. \nGuests can expect a curated three-course brunch\, a free-flow beverage reception\, stand-up comedy\, auctions\, and live performances. With limited tickets available at IDR 475\,000 per person\, this event is an opportunity to enjoy an uplifting afternoon while making a meaningful contribution. \nAll proceeds will help provide free professional mental healthcare to more than 1\,000 people each month. By attending\, guests become part of a movement to expand access to mental health support in Indonesia.
URL:https://www.balifoodandtravel.com/event/giggles-for-good-a-charity-brunch-for-mental-health-awareness/
LOCATION:Hippie Fish Canggu\, Jalan Pantai Pererenan no. 171\, Pererenan Beach\, Pererenan\, Canggu\, Kabupaten Badung\, Bali 80361\, Pererenan\, Bali\, 80361\, Indonesia
CATEGORIES:brunch,Charity
ATTACH;FMTTYPE=image/jpeg:https://www.balifoodandtravel.com/wp-content/uploads/2025/08/WhatsApp-Image-2025-08-17-at-10.45.41.jpeg
END:VEVENT
END:VCALENDAR