BEGIN:VCALENDAR
VERSION:2.0
PRODID:-//Bali Food and Travel - ECPv6.15.20//NONSGML v1.0//EN
CALSCALE:GREGORIAN
METHOD:PUBLISH
X-ORIGINAL-URL:https://www.balifoodandtravel.com
X-WR-CALDESC:Events for Bali Food and Travel
REFRESH-INTERVAL;VALUE=DURATION:PT1H
X-Robots-Tag:noindex
X-PUBLISHED-TTL:PT1H
BEGIN:VTIMEZONE
TZID:UTC
BEGIN:STANDARD
TZOFFSETFROM:+0000
TZOFFSETTO:+0000
TZNAME:UTC
DTSTART:20240101T000000
END:STANDARD
END:VTIMEZONE
BEGIN:VEVENT
DTSTART;VALUE=DATE:20250822
DTEND;VALUE=DATE:20250823
DTSTAMP:20260421T204349
CREATED:20250812T041232Z
LAST-MODIFIED:20250812T041232Z
UID:33238-1755820800-1755907199@www.balifoodandtravel.com
SUMMARY:UK’s Soul Mass Transit System Debuts at Club Corazon – One Night Only
DESCRIPTION:Club Corazon\, the biggest indoor club in Uluwatu\, announces the highly anticipated debut of UK artist Soul Mass Transit System on Friday\, August 22nd. The rising underground sensation will bring his signature blend of UK garage\, breaks\, 2-step\, and bass-heavy rollers to the iconic Uluwatu venue for one night only. \nSoul Mass Transit System has emerged as one of the UK’s most sought-after selectors in the global garage and rave circuit\, with notable releases on respected labels including Time Is Now\, Shall Not Fade\, and ec2a. Known for high-impact sets that honor garage’s rich heritage while pushing the genre forward with fresh\, percussive energy\, the artist has quickly established himself as a driving force in the contemporary UK underground scene. \nThe evening will feature support from Bali’s beloved PNNY collective\, local artists who have built a global reputation for their chaotic\, genre-blending approach and dance floor destruction capabilities. The collaboration promises to deliver an unforgettable night of bass-fueled energy across UKG\, garage\, breaks\, and beyond. \nThe event exemplifies Club Corazon’s commitment to bringing world-class underground talent to Indonesia’s electronic music scene. The venue has established itself as a premier destination for discerning electronic music enthusiasts seeking authentic\, no-frills experiences focused purely on rhythm and sound quality.
URL:https://www.balifoodandtravel.com/event/uks-soul-mass-transit-system-debuts-at-club-corazon-one-night-only/
LOCATION:Club Corazon\, Jl. Labuansait No.69\, Pecatu\, Kec. Kuta Sel.\, Kabupaten\, Bali 80361\, Uluwatu\, Indonesia
CATEGORIES:party
ATTACH;FMTTYPE=image/png:https://www.balifoodandtravel.com/wp-content/uploads/2025/08/CC_STMS_360.png
END:VEVENT
END:VCALENDAR