BEGIN:VCALENDAR
VERSION:2.0
PRODID:-//Bali Food and Travel - ECPv6.15.20//NONSGML v1.0//EN
CALSCALE:GREGORIAN
METHOD:PUBLISH
X-ORIGINAL-URL:https://www.balifoodandtravel.com
X-WR-CALDESC:Events for Bali Food and Travel
REFRESH-INTERVAL;VALUE=DURATION:PT1H
X-Robots-Tag:noindex
X-PUBLISHED-TTL:PT1H
BEGIN:VTIMEZONE
TZID:UTC
BEGIN:STANDARD
TZOFFSETFROM:+0000
TZOFFSETTO:+0000
TZNAME:UTC
DTSTART:20240101T000000
END:STANDARD
END:VTIMEZONE
BEGIN:VEVENT
DTSTART;VALUE=DATE:20250814
DTEND;VALUE=DATE:20250819
DTSTAMP:20260421T190435
CREATED:20250808T024554Z
LAST-MODIFIED:20250809T053016Z
UID:33206-1755129600-1755561599@www.balifoodandtravel.com
SUMMARY:The Makers Project: Wang Sinawang at The Balvenie Area\, Jia CURATED
DESCRIPTION:At Jia CURATED 2025\, The Balvenie presents Wang Sinawang\, an evocative installation by Lianggono of Studio Lianggono. Rooted in the Javanese philosophy of perceiving through patience\, the work invites visitors to slow down and rediscover presence — to see\, to sense\, and to wonder. This meditative experience mirrors The Balvenie’s Five Rare Crafts in whisky making\, where every detail is shaped by time\, tradition\, and intentionality. Set within The Balvenie Area at Jia CURATED — a platform that celebrates craft\, design\, and culture — the installation runs from 14 to 18 August 2025\, 12 to 10 PM daily\, at Bali Festival Park. \nDiscover the art of seeing slowly — plan your visit and experience Wang Sinawang in person. You can also view the full event rundown here: https://drive.google.com/file/d/1HavfBrvTW58eKgEQ7lK7xj_JMsnlbYst/view?usp=drivesdk
URL:https://www.balifoodandtravel.com/event/jia-curated-2025-wang-sinawang-the-balvenie-area/
LOCATION:Bali Festival Park\, Jl. Padang Galak No.3\, Kesiman\, Kec. Denpasar Tim.\, Kota Denpasar\, Bali\, Denpasar\, Indonesia
CATEGORIES:Art Exhibition,Culture
ATTACH;FMTTYPE=image/jpeg:https://www.balifoodandtravel.com/wp-content/uploads/2025/08/The-Balvenie_Invitation-feed-1-scaled.jpg
END:VEVENT
BEGIN:VEVENT
DTSTART;VALUE=DATE:20250817
DTEND;VALUE=DATE:20250818
DTSTAMP:20260421T190435
CREATED:20250812T053747Z
LAST-MODIFIED:20250812T053747Z
UID:33260-1755388800-1755475199@www.balifoodandtravel.com
SUMMARY:Jordan John Brings His Signature Sound to Savaya Bali This August 17
DESCRIPTION:On Sunday\, August 17\, Savaya Bali welcomes the internationally acclaimed DJ and producer Jordan John for an unforgettable evening of music by the ocean. Known for his dynamic sets that blend deep house\, melodic rhythms\, and soulful grooves\, Jordan John has captivated audiences across the globe. This special performance promises a seamless journey through sound\, set against the breathtaking backdrop of Bali’s sunset views. Guests can expect a meticulously crafted musical experience that reflects both the artist’s refined style and Savaya’s world-class atmosphere.
URL:https://www.balifoodandtravel.com/event/jordan-john-brings-his-signature-sound-to-savaya-bali-this-august-17/
LOCATION:Savaya\, Jl. Belimbing Sari\, Banjar Tambiyak\, Pecatu\, Uluwatu\, Kabupaten Badung\, Bali 80364\, Indonesia\, Banjar Tambiyak\, 80364\, Indonesia
CATEGORIES:party
ATTACH;FMTTYPE=image/jpeg:https://www.balifoodandtravel.com/wp-content/uploads/2025/08/250817_SAVAYA_JORDAN-JOHN_Blog-Header_1300x860.jpg
END:VEVENT
END:VCALENDAR