BEGIN:VCALENDAR
VERSION:2.0
PRODID:-//Bali Food and Travel - ECPv6.15.20//NONSGML v1.0//EN
CALSCALE:GREGORIAN
METHOD:PUBLISH
X-WR-CALNAME:Bali Food and Travel
X-ORIGINAL-URL:https://www.balifoodandtravel.com
X-WR-CALDESC:Events for Bali Food and Travel
REFRESH-INTERVAL;VALUE=DURATION:PT1H
X-Robots-Tag:noindex
X-PUBLISHED-TTL:PT1H
BEGIN:VTIMEZONE
TZID:UTC
BEGIN:STANDARD
TZOFFSETFROM:+0000
TZOFFSETTO:+0000
TZNAME:UTC
DTSTART:20240101T000000
END:STANDARD
END:VTIMEZONE
BEGIN:VEVENT
DTSTART;VALUE=DATE:20250803
DTEND;VALUE=DATE:20250804
DTSTAMP:20260421T190306
CREATED:20250729T042843Z
LAST-MODIFIED:20250811T021452Z
UID:32835-1754179200-1754265599@www.balifoodandtravel.com
SUMMARY:Fedele at Savaya Bali – Sunday\, 3 August 2025
DESCRIPTION:On Sunday\, 3 August\, Savaya welcomes Fedele to the cliffs of Uluwatu for a night of cutting-edge sound and cinematic club energy. Known for his atmospheric take on techno\, the Italian DJ and producer brings a sophisticated intensity to the dancefloor. His genre-blurring sets are filled with hypnotic rhythms\, pulsing basslines\, and an emotional drive that has captivated audiences across Europe and beyond. With the dramatic oceanfront backdrop of Savaya as his stage\, this promises to be an unforgettable Sunday session where deep grooves meet high-impact visuals.
URL:https://www.balifoodandtravel.com/event/fedele-at-savaya-bali-sunday-3-august-2025/
LOCATION:Savaya\, Jl. Belimbing Sari\, Banjar Tambiyak\, Pecatu\, Uluwatu\, Kabupaten Badung\, Bali 80364\, Indonesia\, Banjar Tambiyak\, 80364\, Indonesia
CATEGORIES:party
ATTACH;FMTTYPE=image/jpeg:https://www.balifoodandtravel.com/wp-content/uploads/2025/07/250803_SAVAYA_FEDELE_Blog-Header_1300x860.jpg
END:VEVENT
END:VCALENDAR