BEGIN:VCALENDAR
VERSION:2.0
PRODID:-//Bali Food and Travel - ECPv6.15.20//NONSGML v1.0//EN
CALSCALE:GREGORIAN
METHOD:PUBLISH
X-ORIGINAL-URL:https://www.balifoodandtravel.com
X-WR-CALDESC:Events for Bali Food and Travel
REFRESH-INTERVAL;VALUE=DURATION:PT1H
X-Robots-Tag:noindex
X-PUBLISHED-TTL:PT1H
BEGIN:VTIMEZONE
TZID:UTC
BEGIN:STANDARD
TZOFFSETFROM:+0000
TZOFFSETTO:+0000
TZNAME:UTC
DTSTART:20240101T000000
END:STANDARD
END:VTIMEZONE
BEGIN:VTIMEZONE
TZID:Asia/Shanghai
BEGIN:STANDARD
TZOFFSETFROM:+0800
TZOFFSETTO:+0800
TZNAME:CST
DTSTART:20240101T000000
END:STANDARD
END:VTIMEZONE
BEGIN:VEVENT
DTSTART;VALUE=DATE:20250801
DTEND;VALUE=DATE:20250803
DTSTAMP:20260421T173327
CREATED:20250728T022412Z
LAST-MODIFIED:20250729T042618Z
UID:32814-1754006400-1754179199@www.balifoodandtravel.com
SUMMARY:Two Nights\, One Vibe: Club Corazon’s August Kickoff
DESCRIPTION:Club Corazon brings you a double-header weekend of music\, movement\, and high-vibe energy this August — kicking off with our very first Bass Night in collaboration with Pure! Records\, followed by our signature C.R.E.M.A Saturday celebration of Hip Hop and R’n’B culture. \nFRIDAY 01 AUG – PURE! RECORDS FT. PIA COLLADA + GUESTS \nWe’re proud to welcome Pia Collada\, a Goa-based DJ and global tastemaker whose bass-heavy sets blend DnB\, Jungle\, UKG\, Dubstep\, and Afro-influenced styles like Amapiano and Gqom. With appearances at Glastonbury\, Magnetic Fields\, and support from Mixmag Asia\, Keep Hush\, and Deep Tempo\, Pia brings deep\, driving energy that’s built for the dancefloor. \nSupporting her is a stacked lineup from Pure! Records:\nJerry RVLN\, DJ Basiccc\, Linda\, Farouki\, Barbara Pleaser\, Masayu\, and Masagi\, setting the pace for a night of high BPMs\, deep basslines\, and full-body connection. \nSATURDAY 02 AUG – C.R.E.M.A FT. BYANOS & GLANDO \nSaturday night is all about bounce\, flow\, and rhythm as C.R.E.M.A returns with a Hip Hop and R’n’B takeover. This week features crowd favorites Byanos and Glando\, delivering feel-good beats and dancefloor heat in true C.R.E.M.A style. \n\n200K Free Flow for Ladies from 10PM–12AM\nEntry by Guestlist Only – No guestlist\, 100K at the door\nGuestlist arrivals before 11:30PM\n\nWhether you’re here for the bass or the bars\, Club Corazon is the place to be this weekend.\nSee you on the dancefloor. \nGL for Pure! Records: mtix.me/thebeatgl0108 \nGL for C.R.E.M.A:  mtix.me/360balicremagl0208
URL:https://www.balifoodandtravel.com/event/two-nights-one-vibe-club-corazons-august-kickoff/
LOCATION:Club Corazon\, Jl. Labuansait No.69\, Pecatu\, Kec. Kuta Sel.\, Kabupaten\, Bali 80361\, Uluwatu\, Indonesia
CATEGORIES:party
ATTACH;FMTTYPE=image/png:https://www.balifoodandtravel.com/wp-content/uploads/2025/07/CC_PURExCREMA-360.png
END:VEVENT
BEGIN:VEVENT
DTSTART;VALUE=DATE:20250802
DTEND;VALUE=DATE:20250803
DTSTAMP:20260421T173327
CREATED:20250729T042309Z
LAST-MODIFIED:20250811T021413Z
UID:32831-1754092800-1754179199@www.balifoodandtravel.com
SUMMARY:Hayden James Live at Savaya Bali – Saturday\, 2 August 2025
DESCRIPTION:Hayden James returns to Bali on Saturday\, 2 August 2025\, for a special performance at Savaya\, bringing his signature blend of house-driven melodies and festival-ready energy to the iconic cliffside venue in Uluwatu. Known for tracks like “Something About You” and “Just Friends\,” the Australian producer and DJ promises an evening of uplifting sounds and magnetic atmosphere\, set against the backdrop of Bali’s most breathtaking sunset views. With a crowd that knows how to move and a sound system that does it justice\, this is set to be one of the season’s biggest nights at Savaya. Early booking is strongly recommended.
URL:https://www.balifoodandtravel.com/event/hayden-james-live-at-savaya-bali-saturday-2-august-2025/
LOCATION:Savaya\, Jl. Belimbing Sari\, Banjar Tambiyak\, Pecatu\, Uluwatu\, Kabupaten Badung\, Bali 80364\, Indonesia\, Banjar Tambiyak\, 80364\, Indonesia
CATEGORIES:party
ATTACH;FMTTYPE=image/jpeg:https://www.balifoodandtravel.com/wp-content/uploads/2025/07/25.08.02_SAVAYA_HAYDEN-JAMES_Blog-Header_1300x860.jpg
END:VEVENT
END:VCALENDAR