BEGIN:VCALENDAR
VERSION:2.0
PRODID:-//Bali Food and Travel - ECPv6.15.20//NONSGML v1.0//EN
CALSCALE:GREGORIAN
METHOD:PUBLISH
X-WR-CALNAME:Bali Food and Travel
X-ORIGINAL-URL:https://www.balifoodandtravel.com
X-WR-CALDESC:Events for Bali Food and Travel
REFRESH-INTERVAL;VALUE=DURATION:PT1H
X-Robots-Tag:noindex
X-PUBLISHED-TTL:PT1H
BEGIN:VTIMEZONE
TZID:UTC
BEGIN:STANDARD
TZOFFSETFROM:+0000
TZOFFSETTO:+0000
TZNAME:UTC
DTSTART:20240101T000000
END:STANDARD
END:VTIMEZONE
BEGIN:VEVENT
DTSTART;VALUE=DATE:20250730
DTEND;VALUE=DATE:20250731
DTSTAMP:20260421T142822
CREATED:20250707T040102Z
LAST-MODIFIED:20250707T041349Z
UID:32471-1753833600-1753919999@www.balifoodandtravel.com
SUMMARY:Seaside Jazz Mantra at The Meru Sanur: Official Pre-Event for Ubud Village Jazz Festival 2025
DESCRIPTION:The Meru Sanur will host an exclusive seaside event in collaboration with the Ubud Village Jazz Festival 2025. Set at Bali Beach Garden\, Seaside Jazz Mantra takes place on Wednesday\, 30 July 2025\, offering an elegant evening of live jazz and fine dining by the ocean. \nThe highlight of the night is a 6-course wine-paired dinner\, curated by Chef Melvin Chou\, Head Chef of Terra Tokyo Italian in Singapore\, and Chef Marco Medaglia\, Executive Chef of The Meru Sanur. The menu showcases premium seasonal ingredients such as Amela tomatoes\, Hokkaido scallops\, uni\, wagyu brisket\, and white peaches—blending modern Japanese techniques with Mediterranean influences. \nLive jazz will be performed by the Bojan Cvetković Quartet\, led by Serbian pianist and composer Bojan Cvetković. Known for his expressive and genre-blending style\, Bojan has performed internationally\, including appearances at the United Nations Headquarters and the Made in New York Jazz Festival. \nEvent Details \nLocation: Bali Beach Garden – The Meru Sanur \nDate: Wednesday\, 30 July 2025 \nTime: 6.30 PM to 9.00 PM \nPrice: IDR 1\,500\,000++ per person \nSeats are limited. Advance reservations are recommended. \nBookings \nWhatsApp: +62 811-3830-8826 \nWebsite: https://themerusanur.com/exclusive-offers/seaside-jazz \n 
URL:https://www.balifoodandtravel.com/event/seaside-jazz-mantra-at-the-meru-sanur-official-pre-event-for-ubud-village-jazz-festival-2025/
LOCATION:the meru\, The Meru Sanur Jalan Hang Tuah\, Sanur Kaja\, Kota denpasar\, Denpasar selatan\, 80227\, Indonesia
CATEGORIES:dinner
ATTACH;FMTTYPE=image/png:https://www.balifoodandtravel.com/wp-content/uploads/2025/07/Untitled-design.png
END:VEVENT
END:VCALENDAR