BEGIN:VCALENDAR
VERSION:2.0
PRODID:-//Bali Food and Travel - ECPv6.15.20//NONSGML v1.0//EN
CALSCALE:GREGORIAN
METHOD:PUBLISH
X-WR-CALNAME:Bali Food and Travel
X-ORIGINAL-URL:https://www.balifoodandtravel.com
X-WR-CALDESC:Events for Bali Food and Travel
REFRESH-INTERVAL;VALUE=DURATION:PT1H
X-Robots-Tag:noindex
X-PUBLISHED-TTL:PT1H
BEGIN:VTIMEZONE
TZID:UTC
BEGIN:STANDARD
TZOFFSETFROM:+0000
TZOFFSETTO:+0000
TZNAME:UTC
DTSTART:20240101T000000
END:STANDARD
END:VTIMEZONE
BEGIN:VTIMEZONE
TZID:Asia/Shanghai
BEGIN:STANDARD
TZOFFSETFROM:+0800
TZOFFSETTO:+0800
TZNAME:CST
DTSTART:20240101T000000
END:STANDARD
END:VTIMEZONE
BEGIN:VEVENT
DTSTART;VALUE=DATE:20250725
DTEND;VALUE=DATE:20250727
DTSTAMP:20260421T082722
CREATED:20250718T082620Z
LAST-MODIFIED:20250718T082620Z
UID:32709-1753401600-1753574399@www.balifoodandtravel.com
SUMMARY:A Weekend of Sound & Style at Club Corazon
DESCRIPTION:Club Corazon sets the tone for a high-energy weekend in Uluwatu with two distinct nights of cutting-edge music\, as Southeast Asia’s leading collectives\, Zodiac and OLÉ\, take over the decks. \nFriday\, July 25 – Zodiac x Club Corazon \nBali and Jakarta’s underground scenes collide as Zodiac\, the capital’s iconic listening bar and creative hub\, takes over Club Corazon. Known for deep cuts and experimental energy\, this takeover brings genre-defying sound to the Bukit. \nLineup highlights: \n\n\nJonathan Kusuma (Dekadenz / Cocktail D’Amore): dark disco\, EBM and hypnotic techno \n\n\nKimoji (Terribly Measured): unpredictable\, left-field rhythms \n\n\nAdi (Pleasure): groove-forward house and Balearic textures \n\n\nExpect a night where sharp curation meets pure dance floor momentum. \nSaturday\, July 26 – OLÉ Returns to Club Corazon \nSaturday belongs to OLÉ\, the Spanish-Balinese collective known for their feel-good energy and fluid genre blends. From reggaeton and 2000s anthems to house and acid techno\, OLÉ crafts a night built for movement. The dance floor is the main character\, and the vibe is effortlessly fun. \nTicketsZodiac – Friday\, July 25: mtix.me/360baligl2507OLÉ – Saturday\, July 26: Get 20% off with code 360BALI2019
URL:https://www.balifoodandtravel.com/event/a-weekend-of-sound-style-at-club-corazon/
LOCATION:Club Corazon\, Jl. Labuansait No.69\, Pecatu\, Kec. Kuta Sel.\, Kabupaten\, Bali 80361\, Uluwatu\, Indonesia
CATEGORIES:party
ATTACH;FMTTYPE=image/png:https://www.balifoodandtravel.com/wp-content/uploads/2025/07/CC_OLE_ZODIAC-360-BANNER.png
END:VEVENT
BEGIN:VEVENT
DTSTART;VALUE=DATE:20250726
DTEND;VALUE=DATE:20250727
DTSTAMP:20260421T082722
CREATED:20250722T031532Z
LAST-MODIFIED:20250722T031532Z
UID:32759-1753488000-1753574399@www.balifoodandtravel.com
SUMMARY:Ocean to Table: Ijen x One Shot Miyakojima
DESCRIPTION:On 26 July 2025\, from 1:00 PM to 3:00 PM\, Ijen presents an exclusive culinary collaboration with One Shot Miyakojima\, a renowned spearfishing team from Okinawa\, Japan. This unique event brings together the precision of traditional Japanese spearfishing and the rich coastal bounty of Bali. \nLed by Kazuhiro Takata\, One Shot Miyakojima is known for its “No Bycatch” philosophy—a sustainable approach where each fish is caught with care and respect for the ocean. The result is a seafood experience that not only highlights freshness but also honors marine conservation. \nGuests can choose from two curated sharing menus: the Ijen Coastal Menu priced at IDR 550\,000++ per guest\, and the One Shot Signature Menu at IDR 1\,200\,000++ per guest. Each dish showcases locally sourced fish and seafood from the waters around Bali and Nusa Penida. \nOptional drink pairings\, including wine\, cocktails\, and non-alcoholic selections\, will be available to enhance the culinary journey. Special pricing on wine bottles will be offered exclusively for attendees of this event.
URL:https://www.balifoodandtravel.com/event/ocean-to-table-ijen-x-one-shot-miyakojima/
LOCATION:Desa Potato Head\, Jalan Petitenget no. 51B\, Seminyak\, Kuta Utara Kabupaten Badung\, Bali — 80361\, Indonesia\, Seminyak\, Indonesia
CATEGORIES:brunch,celebration
ATTACH;FMTTYPE=image/jpeg:https://www.balifoodandtravel.com/wp-content/uploads/2025/07/WhatsApp-Image-2025-07-22-at-11.06.42.jpeg
END:VEVENT
BEGIN:VEVENT
DTSTART;TZID=Asia/Shanghai:20250726T130000
DTEND;TZID=Asia/Shanghai:20250726T150000
DTSTAMP:20260421T082722
CREATED:20250721T022803Z
LAST-MODIFIED:20250721T022803Z
UID:32727-1753534800-1753542000@www.balifoodandtravel.com
SUMMARY:Celebrating 15 Years of Potato Head: A Design Conversation with Andra Matin
DESCRIPTION:As part of the ongoing 15th anniversary celebrations\, Potato Head invites guests to an intimate lunchtime experience on 26 July 2025 at Kaum Bali. The event\, titled Andra Matin: Crafting Potato Head\, will take place from 1:00 PM to 3:00 PM and features a conversation between Ade Herkarisma\, the head architect behind Potato Head Beach Club and Katamama\, and Andra Matin\, the award-winning modernist and co-founder of Arsitek Muda Indonesia. Together\, they will explore the architectural journey of these iconic spaces\, offering insights into their creative processes\, the challenges they have faced\, and the inspirations that guided their work. \nGuests will enjoy a curated nasi campur set meal from the newly launched Balinese Journey menu\, accompanied by free-flowing refreshments. This afternoon gathering offers more than a meal—it promises a deep dive into Bali’s rich cultural and architectural landscape. The experience is priced at IDR 650\,000++ per person\, with limited availability. Advance reservation is required.
URL:https://www.balifoodandtravel.com/event/celebrating-15-years-of-potato-head-a-design-conversation-with-andra-matin/
LOCATION:Desa Potato Head\, Jalan Petitenget no. 51B\, Seminyak\, Kuta Utara Kabupaten Badung\, Bali — 80361\, Indonesia\, Seminyak\, Indonesia
CATEGORIES:brunch,celebration,party
ATTACH;FMTTYPE=image/jpeg:https://www.balifoodandtravel.com/wp-content/uploads/2025/07/WhatsApp-Image-2025-07-21-at-10.08.39.jpeg
END:VEVENT
BEGIN:VEVENT
DTSTART;TZID=UTC:20250726T170000
DTEND;TZID=UTC:20250727T010000
DTSTAMP:20260421T082722
CREATED:20250708T103835Z
LAST-MODIFIED:20250710T012350Z
UID:32489-1753549200-1753578000@www.balifoodandtravel.com
SUMMARY:Potato Head: 15-Year Anniversary
DESCRIPTION:Doing Good Feels Better — Potato Head Beach Club Turns 15 \nA Celebration of Music\, Community\, and Sustainability in Seminyak \nOne of the best beach clubs in Bali is celebrating a major milestone. In 2025\, Potato Head Beach Club marks 15 years of redefining what a beach club in Bali can be — not just a place to lounge and party\, but a cultural destination\, creative playground\, and community space where every Seminyak sunset comes with a story. \nSince opening in 2010 with a façade of 6\,600 reclaimed teak shutters\, the club has evolved into Desa Potato Head — a full-blown cultural village that blends design\, music\, sustainability\, and hospitality. Home to two hotels\, a zero-waste restaurant\, a subterranean club\, and a plant-powered farmacy\, this Seminyak icon remains one of Bali’s most talked-about day clubs — and a top contender for the best beach club in Bali. \nOver the years\, Potato Head Beach Club has hosted everyone from Grace Jones and Snoop Dogg to Peggy Gou\, Overmono\, and Palms Trax. With Sundown Circle\, they reinvented the meaning of a Seminyak sunset\, creating an experience that’s part soundscape\, part ritual. Disclosure even recorded part of their album here — the club literally vibrates with creative energy. \nBut the impact goes deeper than the music. Sustainability sits at the heart of everything. In 2025\, the Desa sends just 0.5% of waste to landfill. And with the launch of a new culinary direction led by Chef Felix Schoener\, they’re doubling down on circular innovation — creating standout menus from what would have once been food waste. The goal? Source 25% of ingredients from by-products and elevate them into flavour-packed\, responsibly made dishes and drinks. \nFrom June to August\, the Potato Head Beach Club 15th Anniversary celebrations unfold across the Desa. Think pop-ups\, cultural gatherings\, collaborations\, and creative surprises — all done the Potato Head way. On 26 July\, the main event takes over the Beach Club with a lineup of beloved Indonesian artists\, including White Shoes & The Couples Company\, Sore\, Diskoria\, and Greybox Ensemble. Then\, on 27 July\, a spiritual ceremony led by Pak Sedana will honour Tri Hita Karana — grounding this new chapter in Balinese philosophy. \nFifteen years in\, Potato Head Beach Club is still setting the standard for things to do in Seminyak. Equal parts hedonistic and conscious\, it’s proof that good times can come with a greater purpose.
URL:https://www.balifoodandtravel.com/event/potato-head-15-year-anniversary/
LOCATION:Desa Potato Head\, Jalan Petitenget no. 51B\, Seminyak\, Kuta Utara Kabupaten Badung\, Bali — 80361\, Indonesia\, Seminyak\, Indonesia
CATEGORIES:celebration,Culture,party
ATTACH;FMTTYPE=image/jpeg:https://www.balifoodandtravel.com/wp-content/uploads/2025/07/Potato-Head-15-Year-Anniversary-Bali-Food-Travel.jpeg
END:VEVENT
END:VCALENDAR